Workbook

Sheet toplam
A1: BULAŞICI OLMAYAN HASTALIKLAR VE PROGRAMLAR EĞİTİM BİLDİRİM FORMU
A2: İLÇE:
A3: AY: | B3: YIL:
A4: EĞİTİM KONUSU | B4: HİZMET İÇİ EĞİTİM | F4: HALK EĞİTİMİ
B5: KATILIMCI SAYISI | E5: SEANS SAYISI* | F5: KATILIMCI SAYISI | K5: SEANS SAYISI*
B6: DOKTOR | C6: YARDIMCI SAĞLIK PERSONELİ | D6: TOPLAM | F6: ÖĞRENCİ | G6: ÖĞRETMEN | H6: KADIN | I6: ERKEK | J6: TOPLAM
A7: HİPERTANSİYON | B7: =SUM(Aliağa:ihsm!B7) -> 0 | C7: =SUM(Aliağa:ihsm!C7) -> 0 | D7: =SUM(Aliağa:ihsm!D7) -> 0 | E7: =SUM(Aliağa:ihsm!E7) -> 0 | F7: =SUM(Aliağa:ihsm!F7) -> 0 | G7: =SUM(Aliağa:ihsm!G7) -> 0 | H7: =SUM(Aliağa:ihsm!H7) -> 0 | I7: =SUM(Aliağa:ihsm!I7) -> 0 | ... K7: =SUM(Aliağa:ihsm!K7) -> 0
A8: TUZ VE SAĞLIK ÜZERİNE ETKİLERİ | B8: =SUM(Aliağa:ihsm!B8) -> 0 | C8: =SUM(Aliağa:ihsm!C8) -> 0 | D8: =SUM(Aliağa:ihsm!D8) -> 0 | E8: =SUM(Aliağa:ihsm!E8) -> 0 | F8: =SUM(Aliağa:ihsm!F8) -> 0 | G8: =SUM(Aliağa:ihsm!G8) -> 0 | H8: =SUM(Aliağa:ihsm!H8) -> 0 | I8: =SUM(Aliağa:ihsm!I8) -> 0 | ... K8: =SUM(Aliağa:ihsm!K8) -> 0
A9: BÖBREK HASTALIKLARI | B9: =SUM(Aliağa:ihsm!B9) -> 0 | C9: =SUM(Aliağa:ihsm!C9) -> 0 | D9: =SUM(Aliağa:ihsm!D9) -> 0 | E9: =SUM(Aliağa:ihsm!E9) -> 0 | F9: =SUM(Aliağa:ihsm!F9) -> 0 | G9: =SUM(Aliağa:ihsm!G9) -> 0 | H9: =SUM(Aliağa:ihsm!H9) -> 0 | I9: =SUM(Aliağa:ihsm!I9) -> 0 | ... K9: =SUM(Aliağa:ihsm!K9) -> 0
A10: KALP VE DAMAR HASTALIKLARI ÖNLENMESİ VE KONTROLÜ | B10: =SUM(Aliağa:ihsm!B10) -> 0 | C10: =SUM(Aliağa:ihsm!C10) -> 0 | D10: =SUM(Aliağa:ihsm!D10) -> 0 | E10: =SUM(Aliağa:ihsm!E10) -> 0 | F10: =SUM(Aliağa:ihsm!F10) -> 0 | G10: =SUM(Aliağa:ihsm!G10) -> 0 | H10: =SUM(Aliağa:ihsm!H10) -> 0 | I10: =SUM(Aliağa:ihsm!I10) -> 0 | ... K10: =SUM(Aliağa:ihsm!K10) -> 0
A11: KRONİK HASTALIKLAR VE KONTROL PROGRAMLARI | B11: =SUM(Aliağa:ihsm!B11) -> 0 | C11: =SUM(Aliağa:ihsm!C11) -> 0 | D11: =SUM(Aliağa:ihsm!D11) -> 0 | E11: =SUM(Aliağa:ihsm!E11) -> 0 | F11: =SUM(Aliağa:ihsm!F11) -> 0 | G11: =SUM(Aliağa:ihsm!G11) -> 0 | H11: =SUM(Aliağa:ihsm!H11) -> 0 | I11: =SUM(Aliağa:ihsm!I11) -> 0 | ... K11: =SUM(Aliağa:ihsm!K11) -> 0
A12: DİYABET | B12: =SUM(Aliağa:ihsm!B12) -> 0 | C12: =SUM(Aliağa:ihsm!C12) -> 0 | D12: =SUM(Aliağa:ihsm!D12) -> 0 | E12: =SUM(Aliağa:ihsm!E12) -> 0 | F12: =SUM(Aliağa:ihsm!F12) -> 0 | G12: =SUM(Aliağa:ihsm!G12) -> 0 | H12: =SUM(Aliağa:ihsm!H12) -> 0 | I12: =SUM(Aliağa:ihsm!I12) -> 0 | ... K12: =SUM(Aliağa:ihsm!K12) -> 0
A13: GUATR | B13: =SUM(Aliağa:ihsm!B13) -> 0 | C13: =SUM(Aliağa:ihsm!C13) -> 0 | D13: =SUM(Aliağa:ihsm!D13) -> 0 | E13: =SUM(Aliağa:ihsm!E13) -> 0 | F13: =SUM(Aliağa:ihsm!F13) -> 0 | G13: =SUM(Aliağa:ihsm!G13) -> 0 | H13: =SUM(Aliağa:ihsm!H13) -> 0 | I13: =SUM(Aliağa:ihsm!I13) -> 0 | ... K13: =SUM(Aliağa:ihsm!K13) -> 0
A14: KOAH | B14: =SUM(Aliağa:ihsm!B14) -> 0 | C14: =SUM(Aliağa:ihsm!C14) -> 0 | D14: =SUM(Aliağa:ihsm!D14) -> 0 | E14: =SUM(Aliağa:ihsm!E14) -> 0 | F14: =SUM(Aliağa:ihsm!F14) -> 0 | G14: =SUM(Aliağa:ihsm!G14) -> 0 | H14: =SUM(Aliağa:ihsm!H14) -> 0 | I14: =SUM(Aliağa:ihsm!I14) -> 0 | ... K14: =SUM(Aliağa:ihsm!K14) -> 0
A15: ASTIM | B15: =SUM(Aliağa:ihsm!B15) -> 0 | C15: =SUM(Aliağa:ihsm!C15) -> 0 | D15: =SUM(Aliağa:ihsm!D15) -> 0 | E15: =SUM(Aliağa:ihsm!E15) -> 0 | F15: =SUM(Aliağa:ihsm!F15) -> 0 | G15: =SUM(Aliağa:ihsm!G15) -> 0 | H15: =SUM(Aliağa:ihsm!H15) -> 0 | I15: =SUM(Aliağa:ihsm!I15) -> 0 | ... K15: =SUM(Aliağa:ihsm!K15) -> 0
A16: PULMONER REHABİLİTASYON | B16: =SUM(Aliağa:ihsm!B16) -> 0 | C16: =SUM(Aliağa:ihsm!C16) -> 0 | D16: =SUM(Aliağa:ihsm!D16) -> 0 | E16: =SUM(Aliağa:ihsm!E16) -> 0 | F16: =SUM(Aliağa:ihsm!F16) -> 0 | G16: =SUM(Aliağa:ihsm!G16) -> 0 | H16: =SUM(Aliağa:ihsm!H16) -> 0 | I16: =SUM(Aliağa:ihsm!I16) -> 0 | ... K16: =SUM(Aliağa:ihsm!K16) -> 0
A17: YAŞLI SAĞLIĞI VE SAĞLIKLI YAŞLANMA | B17: =SUM(Aliağa:ihsm!B17) -> 0 | C17: =SUM(Aliağa:ihsm!C17) -> 0 | D17: =SUM(Aliağa:ihsm!D17) -> 0 | E17: =SUM(Aliağa:ihsm!E17) -> 0 | F17: =SUM(Aliağa:ihsm!F17) -> 0 | G17: =SUM(Aliağa:ihsm!G17) -> 0 | H17: =SUM(Aliağa:ihsm!H17) -> 0 | I17: =SUM(Aliağa:ihsm!I17) -> 0 | ... K17: =SUM(Aliağa:ihsm!K17) -> 0
A18: SAĞLIKLI BESLENME | B18: =SUM(Aliağa:ihsm!B18) -> 0 | C18: =SUM(Aliağa:ihsm!C18) -> 0 | D18: =SUM(Aliağa:ihsm!D18) -> 0 | E18: =SUM(Aliağa:ihsm!E18) -> 0 | F18: =SUM(Aliağa:ihsm!F18) -> 0 | G18: =SUM(Aliağa:ihsm!G18) -> 0 | H18: =SUM(Aliağa:ihsm!H18) -> 0 | I18: =SUM(Aliağa:ihsm!I18) -> 0 | ... K18: =SUM(Aliağa:ihsm!K18) -> 0
... A24: DİĞER (EĞİTİM ADI AÇIK OLARAK YAZILACAKTIR) | B24: =SUM(Aliağa:ihsm!B24) -> 0 | C24: =SUM(Aliağa:ihsm!C24) -> 0 | D24: =SUM(Aliağa:ihsm!D24) -> 0 | E24: =SUM(Aliağa:ihsm!E24) -> 0 | F24: =SUM(Aliağa:ihsm!F24) -> 0 | G24: =SUM(Aliağa:ihsm!G24) -> 0 | H24: =SUM(Aliağa:ihsm!H24) -> 0 | I24: =SUM(Aliağa:ihsm!I24) -> 0 | ... K24: =SUM(Aliağa:ihsm!K24) -> 0
A25: **OBEZİTE DANIŞMA BİRİMİ ÇALIŞMALARI | B25: İLK BAŞVURU SAYISI: | F25: İZLEM SAYISI:
A26: * GERÇEKLEŞTİRİLEN EĞİTİM SAYISI
A27: **İLGİLİ AYA AİT İLK BAŞVURU VE İZLEM SAYILARI YAZILACAKTIR.
A28: Düzenleyen | F28: Onaylayan
A29: Adı Soyadı: | F29: Adı Soyadı:
A30: İmza: | F30: İmza:

Sheet Aliağa
A1: BULAŞICI OLMAYAN HASTALIKLAR VE PROGRAMLAR EĞİTİM BİLDİRİM FORMU
A2: İLÇE:
A3: AY: | B3: YIL:
A4: EĞİTİM KONUSU | B4: HİZMET İÇİ EĞİTİM | F4: HALK EĞİTİMİ
B5: KATILIMCI SAYISI | E5: SEANS SAYISI* | F5: KATILIMCI SAYISI | K5: SEANS SAYISI*
B6: DOKTOR | C6: YARDIMCI SAĞLIK PERSONELİ | D6: TOPLAM | F6: ÖĞRENCİ | G6: ÖĞRETMEN | H6: KADIN | I6: ERKEK | J6: TOPLAM
A7: HİPERTANSİYON
A8: TUZ VE SAĞLIK ÜZERİNE ETKİLERİ
A9: BÖBREK HASTALIKLARI
A10: KALP VE DAMAR HASTALIKLARI ÖNLENMESİ VE KONTROLÜ
A11: KRONİK HASTALIKLAR VE KONTROL PROGRAMLARI
A12: DİYABET
A13: GUATR
A14: KOAH
A15: ASTIM
A16: PULMONER REHABİLİTASYON
A17: YAŞLI SAĞLIĞI VE SAĞLIKLI YAŞLANMA
A18: SAĞLIKLI BESLENME
... A24: DİĞER (EĞİTİM ADI AÇIK OLARAK YAZILACAKTIR)
A25: **OBEZİTE DANIŞMA BİRİMİ ÇALIŞMALARI | B25: İLK BAŞVURU SAYISI: | F25: İZLEM SAYISI:
A26: * GERÇEKLEŞTİRİLEN EĞİTİM SAYISI
A27: **İLGİLİ AYA AİT İLK BAŞVURU VE İZLEM SAYILARI YAZILACAKTIR.
A28: Düzenleyen | F28: Onaylayan
A29: Adı Soyadı: | F29: Adı Soyadı:
A30: İmza: | F30: İmza:

Sheet Balçova
A1: BULAŞICI OLMAYAN HASTALIKLAR VE PROGRAMLAR EĞİTİM BİLDİRİM FORMU
A2: İLÇE:
A3: AY: | B3: YIL:
A4: EĞİTİM KONUSU | B4: HİZMET İÇİ EĞİTİM | F4: HALK EĞİTİMİ
B5: KATILIMCI SAYISI | E5: SEANS SAYISI* | F5: KATILIMCI SAYISI | K5: SEANS SAYISI*
B6: DOKTOR | C6: YARDIMCI SAĞLIK PERSONELİ | D6: TOPLAM | F6: ÖĞRENCİ | G6: ÖĞRETMEN | H6: KADIN | I6: ERKEK | J6: TOPLAM
A7: HİPERTANSİYON
A8: TUZ VE SAĞLIK ÜZERİNE ETKİLERİ
A9: BÖBREK HASTALIKLARI
A10: KALP VE DAMAR HASTALIKLARI ÖNLENMESİ VE KONTROLÜ
A11: KRONİK HASTALIKLAR VE KONTROL PROGRAMLARI
A12: DİYABET
A13: GUATR
A14: KOAH
A15: ASTIM
A16: PULMONER REHABİLİTASYON
A17: YAŞLI SAĞLIĞI VE SAĞLIKLI YAŞLANMA
A18: SAĞLIKLI BESLENME
... A24: DİĞER (EĞİTİM ADI AÇIK OLARAK YAZILACAKTIR)
A25: **OBEZİTE DANIŞMA BİRİMİ ÇALIŞMALARI | B25: İLK BAŞVURU SAYISI: | F25: İZLEM SAYISI:
A26: * GERÇEKLEŞTİRİLEN EĞİTİM SAYISI
A27: **İLGİLİ AYA AİT İLK BAŞVURU VE İZLEM SAYILARI YAZILACAKTIR.
A28: Düzenleyen | F28: Onaylayan
A29: Adı Soyadı: | F29: Adı Soyadı:
A30: İmza: | F30: İmza:

Sheet Bayındır
A1: BULAŞICI OLMAYAN HASTALIKLAR VE PROGRAMLAR EĞİTİM BİLDİRİM FORMU
A2: İLÇE:
A3: AY: | B3: YIL:
A4: EĞİTİM KONUSU | B4: HİZMET İÇİ EĞİTİM | F4: HALK EĞİTİMİ
B5: KATILIMCI SAYISI | E5: SEANS SAYISI* | F5: KATILIMCI SAYISI | K5: SEANS SAYISI*
B6: DOKTOR | C6: YARDIMCI SAĞLIK PERSONELİ | D6: TOPLAM | F6: ÖĞRENCİ | G6: ÖĞRETMEN | H6: KADIN | I6: ERKEK | J6: TOPLAM
A7: HİPERTANSİYON
A8: TUZ VE SAĞLIK ÜZERİNE ETKİLERİ
A9: BÖBREK HASTALIKLARI
A10: KALP VE DAMAR HASTALIKLARI ÖNLENMESİ VE KONTROLÜ
A11: KRONİK HASTALIKLAR VE KONTROL PROGRAMLARI
A12: DİYABET
A13: GUATR
A14: KOAH
A15: ASTIM
A16: PULMONER REHABİLİTASYON
A17: YAŞLI SAĞLIĞI VE SAĞLIKLI YAŞLANMA
A18: SAĞLIKLI BESLENME
... A24: DİĞER (EĞİTİM ADI AÇIK OLARAK YAZILACAKTIR)
A25: **OBEZİTE DANIŞMA BİRİMİ ÇALIŞMALARI | B25: İLK BAŞVURU SAYISI: | F25: İZLEM SAYISI:
A26: * GERÇEKLEŞTİRİLEN EĞİTİM SAYISI
A27: **İLGİLİ AYA AİT İLK BAŞVURU VE İZLEM SAYILARI YAZILACAKTIR.
A28: Düzenleyen | F28: Onaylayan
A29: Adı Soyadı: | F29: Adı Soyadı:
A30: İmza: | F30: İmza:

Sheet Bayraklı
A1: BULAŞICI OLMAYAN HASTALIKLAR VE PROGRAMLAR EĞİTİM BİLDİRİM FORMU
A2: İLÇE:
A3: AY: | B3: YIL:
A4: EĞİTİM KONUSU | B4: HİZMET İÇİ EĞİTİM | F4: HALK EĞİTİMİ
B5: KATILIMCI SAYISI | E5: SEANS SAYISI* | F5: KATILIMCI SAYISI | K5: SEANS SAYISI*
B6: DOKTOR | C6: YARDIMCI SAĞLIK PERSONELİ | D6: TOPLAM | F6: ÖĞRENCİ | G6: ÖĞRETMEN | H6: KADIN | I6: ERKEK | J6: TOPLAM
A7: HİPERTANSİYON
A8: TUZ VE SAĞLIK ÜZERİNE ETKİLERİ
A9: BÖBREK HASTALIKLARI
A10: KALP VE DAMAR HASTALIKLARI ÖNLENMESİ VE KONTROLÜ
A11: KRONİK HASTALIKLAR VE KONTROL PROGRAMLARI
A12: DİYABET
A13: GUATR
A14: KOAH
A15: ASTIM
A16: PULMONER REHABİLİTASYON
A17: YAŞLI SAĞLIĞI VE SAĞLIKLI YAŞLANMA
A18: SAĞLIKLI BESLENME
... A24: DİĞER (EĞİTİM ADI AÇIK OLARAK YAZILACAKTIR)
A25: **OBEZİTE DANIŞMA BİRİMİ ÇALIŞMALARI | B25: İLK BAŞVURU SAYISI: | F25: İZLEM SAYISI:
A26: * GERÇEKLEŞTİRİLEN EĞİTİM SAYISI
A27: **İLGİLİ AYA AİT İLK BAŞVURU VE İZLEM SAYILARI YAZILACAKTIR.
A28: Düzenleyen | F28: Onaylayan
A29: Adı Soyadı: | F29: Adı Soyadı:
A30: İmza: | F30: İmza:

Sheet Bergama
A1: BULAŞICI OLMAYAN HASTALIKLAR VE PROGRAMLAR EĞİTİM BİLDİRİM FORMU
A2: İLÇE:
A3: AY: | B3: YIL:
A4: EĞİTİM KONUSU | B4: HİZMET İÇİ EĞİTİM | F4: HALK EĞİTİMİ
B5: KATILIMCI SAYISI | E5: SEANS SAYISI* | F5: KATILIMCI SAYISI | K5: SEANS SAYISI*
B6: DOKTOR | C6: YARDIMCI SAĞLIK PERSONELİ | D6: TOPLAM | F6: ÖĞRENCİ | G6: ÖĞRETMEN | H6: KADIN | I6: ERKEK | J6: TOPLAM
A7: HİPERTANSİYON
A8: TUZ VE SAĞLIK ÜZERİNE ETKİLERİ
A9: BÖBREK HASTALIKLARI
A10: KALP VE DAMAR HASTALIKLARI ÖNLENMESİ VE KONTROLÜ
A11: KRONİK HASTALIKLAR VE KONTROL PROGRAMLARI
A12: DİYABET
A13: GUATR
A14: KOAH
A15: ASTIM
A16: PULMONER REHABİLİTASYON
A17: YAŞLI SAĞLIĞI VE SAĞLIKLI YAŞLANMA
A18: SAĞLIKLI BESLENME
... A24: DİĞER (EĞİTİM ADI AÇIK OLARAK YAZILACAKTIR)
A25: **OBEZİTE DANIŞMA BİRİMİ ÇALIŞMALARI | B25: İLK BAŞVURU SAYISI: | F25: İZLEM SAYISI:
A26: * GERÇEKLEŞTİRİLEN EĞİTİM SAYISI
A27: **İLGİLİ AYA AİT İLK BAŞVURU VE İZLEM SAYILARI YAZILACAKTIR.
A28: Düzenleyen | F28: Onaylayan
A29: Adı Soyadı: | F29: Adı Soyadı:
A30: İmza: | F30: İmza:

Sheet Beydağ
A1: BULAŞICI OLMAYAN HASTALIKLAR VE PROGRAMLAR EĞİTİM BİLDİRİM FORMU
A2: İLÇE:
A3: AY: | B3: YIL:
A4: EĞİTİM KONUSU | B4: HİZMET İÇİ EĞİTİM | F4: HALK EĞİTİMİ
B5: KATILIMCI SAYISI | E5: SEANS SAYISI* | F5: KATILIMCI SAYISI | K5: SEANS SAYISI*
B6: DOKTOR | C6: YARDIMCI SAĞLIK PERSONELİ | D6: TOPLAM | F6: ÖĞRENCİ | G6: ÖĞRETMEN | H6: KADIN | I6: ERKEK | J6: TOPLAM
A7: HİPERTANSİYON
A8: TUZ VE SAĞLIK ÜZERİNE ETKİLERİ
A9: BÖBREK HASTALIKLARI
A10: KALP VE DAMAR HASTALIKLARI ÖNLENMESİ VE KONTROLÜ
A11: KRONİK HASTALIKLAR VE KONTROL PROGRAMLARI
A12: DİYABET
A13: GUATR
A14: KOAH
A15: ASTIM
A16: PULMONER REHABİLİTASYON
A17: YAŞLI SAĞLIĞI VE SAĞLIKLI YAŞLANMA
A18: SAĞLIKLI BESLENME
... A24: DİĞER (EĞİTİM ADI AÇIK OLARAK YAZILACAKTIR)
A25: **OBEZİTE DANIŞMA BİRİMİ ÇALIŞMALARI | B25: İLK BAŞVURU SAYISI: | F25: İZLEM SAYISI:
A26: * GERÇEKLEŞTİRİLEN EĞİTİM SAYISI
A27: **İLGİLİ AYA AİT İLK BAŞVURU VE İZLEM SAYILARI YAZILACAKTIR.
A28: Düzenleyen | F28: Onaylayan
A29: Adı Soyadı: | F29: Adı Soyadı:
A30: İmza: | F30: İmza:

Sheet Bornova
A1: BULAŞICI OLMAYAN HASTALIKLAR VE PROGRAMLAR EĞİTİM BİLDİRİM FORMU
A2: İLÇE:
A3: AY: | B3: YIL:
A4: EĞİTİM KONUSU | B4: HİZMET İÇİ EĞİTİM | F4: HALK EĞİTİMİ
B5: KATILIMCI SAYISI | E5: SEANS SAYISI* | F5: KATILIMCI SAYISI | K5: SEANS SAYISI*
B6: DOKTOR | C6: YARDIMCI SAĞLIK PERSONELİ | D6: TOPLAM | F6: ÖĞRENCİ | G6: ÖĞRETMEN | H6: KADIN | I6: ERKEK | J6: TOPLAM
A7: HİPERTANSİYON
A8: TUZ VE SAĞLIK ÜZERİNE ETKİLERİ
A9: BÖBREK HASTALIKLARI
A10: KALP VE DAMAR HASTALIKLARI ÖNLENMESİ VE KONTROLÜ
A11: KRONİK HASTALIKLAR VE KONTROL PROGRAMLARI
A12: DİYABET
A13: GUATR
A14: KOAH
A15: ASTIM
A16: PULMONER REHABİLİTASYON
A17: YAŞLI SAĞLIĞI VE SAĞLIKLI YAŞLANMA
A18: SAĞLIKLI BESLENME
... A24: DİĞER (EĞİTİM ADI AÇIK OLARAK YAZILACAKTIR)
A25: **OBEZİTE DANIŞMA BİRİMİ ÇALIŞMALARI | B25: İLK BAŞVURU SAYISI: | F25: İZLEM SAYISI:
A26: * GERÇEKLEŞTİRİLEN EĞİTİM SAYISI
A27: **İLGİLİ AYA AİT İLK BAŞVURU VE İZLEM SAYILARI YAZILACAKTIR.
A28: Düzenleyen | F28: Onaylayan
A29: Adı Soyadı: | F29: Adı Soyadı:
A30: İmza: | F30: İmza:

Sheet Buca
A1: BULAŞICI OLMAYAN HASTALIKLAR VE PROGRAMLAR EĞİTİM BİLDİRİM FORMU
A2: İLÇE:
A3: AY: | B3: YIL:
A4: EĞİTİM KONUSU | B4: HİZMET İÇİ EĞİTİM | F4: HALK EĞİTİMİ
B5: KATILIMCI SAYISI | E5: SEANS SAYISI* | F5: KATILIMCI SAYISI | K5: SEANS SAYISI*
B6: DOKTOR | C6: YARDIMCI SAĞLIK PERSONELİ | D6: TOPLAM | F6: ÖĞRENCİ | G6: ÖĞRETMEN | H6: KADIN | I6: ERKEK | J6: TOPLAM
A7: HİPERTANSİYON
A8: TUZ VE SAĞLIK ÜZERİNE ETKİLERİ
A9: BÖBREK HASTALIKLARI
A10: KALP VE DAMAR HASTALIKLARI ÖNLENMESİ VE KONTROLÜ
A11: KRONİK HASTALIKLAR VE KONTROL PROGRAMLARI
A12: DİYABET
A13: GUATR
A14: KOAH
A15: ASTIM
A16: PULMONER REHABİLİTASYON
A17: YAŞLI SAĞLIĞI VE SAĞLIKLI YAŞLANMA
A18: SAĞLIKLI BESLENME
... A24: DİĞER (EĞİTİM ADI AÇIK OLARAK YAZILACAKTIR)
A25: **OBEZİTE DANIŞMA BİRİMİ ÇALIŞMALARI | B25: İLK BAŞVURU SAYISI: | F25: İZLEM SAYISI:
A26: * GERÇEKLEŞTİRİLEN EĞİTİM SAYISI
A27: **İLGİLİ AYA AİT İLK BAŞVURU VE İZLEM SAYILARI YAZILACAKTIR.
A28: Düzenleyen | F28: Onaylayan
A29: Adı Soyadı: | F29: Adı Soyadı:
A30: İmza: | F30: İmza:

Sheet Çeşme
A1: BULAŞICI OLMAYAN HASTALIKLAR VE PROGRAMLAR EĞİTİM BİLDİRİM FORMU
A2: İLÇE:
A3: AY: | B3: YIL:
A4: EĞİTİM KONUSU | B4: HİZMET İÇİ EĞİTİM | F4: HALK EĞİTİMİ
B5: KATILIMCI SAYISI | E5: SEANS SAYISI* | F5: KATILIMCI SAYISI | K5: SEANS SAYISI*
B6: DOKTOR | C6: YARDIMCI SAĞLIK PERSONELİ | D6: TOPLAM | F6: ÖĞRENCİ | G6: ÖĞRETMEN | H6: KADIN | I6: ERKEK | J6: TOPLAM
A7: HİPERTANSİYON
A8: TUZ VE SAĞLIK ÜZERİNE ETKİLERİ
A9: BÖBREK HASTALIKLARI
A10: KALP VE DAMAR HASTALIKLARI ÖNLENMESİ VE KONTROLÜ
A11: KRONİK HASTALIKLAR VE KONTROL PROGRAMLARI
A12: DİYABET
A13: GUATR
A14: KOAH
A15: ASTIM
A16: PULMONER REHABİLİTASYON
A17: YAŞLI SAĞLIĞI VE SAĞLIKLI YAŞLANMA
A18: SAĞLIKLI BESLENME
... A24: DİĞER (EĞİTİM ADI AÇIK OLARAK YAZILACAKTIR)
A25: **OBEZİTE DANIŞMA BİRİMİ ÇALIŞMALARI | B25: İLK BAŞVURU SAYISI: | F25: İZLEM SAYISI:
A26: * GERÇEKLEŞTİRİLEN EĞİTİM SAYISI
A27: **İLGİLİ AYA AİT İLK BAŞVURU VE İZLEM SAYILARI YAZILACAKTIR.
A28: Düzenleyen | F28: Onaylayan
A29: Adı Soyadı: | F29: Adı Soyadı:
A30: İmza: | F30: İmza:

Sheet Çiğli
A1: BULAŞICI OLMAYAN HASTALIKLAR VE PROGRAMLAR EĞİTİM BİLDİRİM FORMU
A2: İLÇE:
A3: AY: | B3: YIL:
A4: EĞİTİM KONUSU | B4: HİZMET İÇİ EĞİTİM | F4: HALK EĞİTİMİ
B5: KATILIMCI SAYISI | E5: SEANS SAYISI* | F5: KATILIMCI SAYISI | K5: SEANS SAYISI*
B6: DOKTOR | C6: YARDIMCI SAĞLIK PERSONELİ | D6: TOPLAM | F6: ÖĞRENCİ | G6: ÖĞRETMEN | H6: KADIN | I6: ERKEK | J6: TOPLAM
A7: HİPERTANSİYON
A8: TUZ VE SAĞLIK ÜZERİNE ETKİLERİ
A9: BÖBREK HASTALIKLARI
A10: KALP VE DAMAR HASTALIKLARI ÖNLENMESİ VE KONTROLÜ
A11: KRONİK HASTALIKLAR VE KONTROL PROGRAMLARI
A12: DİYABET
A13: GUATR
A14: KOAH
A15: ASTIM
A16: PULMONER REHABİLİTASYON
A17: YAŞLI SAĞLIĞI VE SAĞLIKLI YAŞLANMA
A18: SAĞLIKLI BESLENME
... A24: DİĞER (EĞİTİM ADI AÇIK OLARAK YAZILACAKTIR)
A25: **OBEZİTE DANIŞMA BİRİMİ ÇALIŞMALARI | B25: İLK BAŞVURU SAYISI: | F25: İZLEM SAYISI:
A26: * GERÇEKLEŞTİRİLEN EĞİTİM SAYISI
A27: **İLGİLİ AYA AİT İLK BAŞVURU VE İZLEM SAYILARI YAZILACAKTIR.
A28: Düzenleyen | F28: Onaylayan
A29: Adı Soyadı: | F29: Adı Soyadı:
A30: İmza: | F30: İmza:

Sheet Dikili
A1: BULAŞICI OLMAYAN HASTALIKLAR VE PROGRAMLAR EĞİTİM BİLDİRİM FORMU
A2: İLÇE:
A3: AY: | B3: YIL:
A4: EĞİTİM KONUSU | B4: HİZMET İÇİ EĞİTİM | F4: HALK EĞİTİMİ
B5: KATILIMCI SAYISI | E5: SEANS SAYISI* | F5: KATILIMCI SAYISI | K5: SEANS SAYISI*
B6: DOKTOR | C6: YARDIMCI SAĞLIK PERSONELİ | D6: TOPLAM | F6: ÖĞRENCİ | G6: ÖĞRETMEN | H6: KADIN | I6: ERKEK | J6: TOPLAM
A7: HİPERTANSİYON
A8: TUZ VE SAĞLIK ÜZERİNE ETKİLERİ
A9: BÖBREK HASTALIKLARI
A10: KALP VE DAMAR HASTALIKLARI ÖNLENMESİ VE KONTROLÜ
A11: KRONİK HASTALIKLAR VE KONTROL PROGRAMLARI
A12: DİYABET
A13: GUATR
A14: KOAH
A15: ASTIM
A16: PULMONER REHABİLİTASYON
A17: YAŞLI SAĞLIĞI VE SAĞLIKLI YAŞLANMA
A18: SAĞLIKLI BESLENME
... A24: DİĞER (EĞİTİM ADI AÇIK OLARAK YAZILACAKTIR)
A25: **OBEZİTE DANIŞMA BİRİMİ ÇALIŞMALARI | B25: İLK BAŞVURU SAYISI: | F25: İZLEM SAYISI:
A26: * GERÇEKLEŞTİRİLEN EĞİTİM SAYISI
A27: **İLGİLİ AYA AİT İLK BAŞVURU VE İZLEM SAYILARI YAZILACAKTIR.
A28: Düzenleyen | F28: Onaylayan
A29: Adı Soyadı: | F29: Adı Soyadı:
A30: İmza: | F30: İmza:

Sheet Foça
A1: BULAŞICI OLMAYAN HASTALIKLAR VE PROGRAMLAR EĞİTİM BİLDİRİM FORMU
A2: İLÇE:
A3: AY: | B3: YIL:
A4: EĞİTİM KONUSU | B4: HİZMET İÇİ EĞİTİM | F4: HALK EĞİTİMİ
B5: KATILIMCI SAYISI | E5: SEANS SAYISI* | F5: KATILIMCI SAYISI | K5: SEANS SAYISI*
B6: DOKTOR | C6: YARDIMCI SAĞLIK PERSONELİ | D6: TOPLAM | F6: ÖĞRENCİ | G6: ÖĞRETMEN | H6: KADIN | I6: ERKEK | J6: TOPLAM
A7: HİPERTANSİYON
A8: TUZ VE SAĞLIK ÜZERİNE ETKİLERİ
A9: BÖBREK HASTALIKLARI
A10: KALP VE DAMAR HASTALIKLARI ÖNLENMESİ VE KONTROLÜ
A11: KRONİK HASTALIKLAR VE KONTROL PROGRAMLARI
A12: DİYABET
A13: GUATR
A14: KOAH
A15: ASTIM
A16: PULMONER REHABİLİTASYON
A17: YAŞLI SAĞLIĞI VE SAĞLIKLI YAŞLANMA
A18: SAĞLIKLI BESLENME
... A24: DİĞER (EĞİTİM ADI AÇIK OLARAK YAZILACAKTIR)
A25: **OBEZİTE DANIŞMA BİRİMİ ÇALIŞMALARI | B25: İLK BAŞVURU SAYISI: | F25: İZLEM SAYISI:
A26: * GERÇEKLEŞTİRİLEN EĞİTİM SAYISI
A27: **İLGİLİ AYA AİT İLK BAŞVURU VE İZLEM SAYILARI YAZILACAKTIR.
A28: Düzenleyen | F28: Onaylayan
A29: Adı Soyadı: | F29: Adı Soyadı:
A30: İmza: | F30: İmza:

Sheet Gaziemir
A1: BULAŞICI OLMAYAN HASTALIKLAR VE PROGRAMLAR EĞİTİM BİLDİRİM FORMU
A2: İLÇE:
A3: AY: | B3: YIL:
A4: EĞİTİM KONUSU | B4: HİZMET İÇİ EĞİTİM | F4: HALK EĞİTİMİ
B5: KATILIMCI SAYISI | E5: SEANS SAYISI* | F5: KATILIMCI SAYISI | K5: SEANS SAYISI*
B6: DOKTOR | C6: YARDIMCI SAĞLIK PERSONELİ | D6: TOPLAM | F6: ÖĞRENCİ | G6: ÖĞRETMEN | H6: KADIN | I6: ERKEK | J6: TOPLAM
A7: HİPERTANSİYON
A8: TUZ VE SAĞLIK ÜZERİNE ETKİLERİ
A9: BÖBREK HASTALIKLARI
A10: KALP VE DAMAR HASTALIKLARI ÖNLENMESİ VE KONTROLÜ
A11: KRONİK HASTALIKLAR VE KONTROL PROGRAMLARI
A12: DİYABET
A13: GUATR
A14: KOAH
A15: ASTIM
A16: PULMONER REHABİLİTASYON
A17: YAŞLI SAĞLIĞI VE SAĞLIKLI YAŞLANMA
A18: SAĞLIKLI BESLENME
... A24: DİĞER (EĞİTİM ADI AÇIK OLARAK YAZILACAKTIR)
A25: **OBEZİTE DANIŞMA BİRİMİ ÇALIŞMALARI | B25: İLK BAŞVURU SAYISI: | F25: İZLEM SAYISI:
A26: * GERÇEKLEŞTİRİLEN EĞİTİM SAYISI
A27: **İLGİLİ AYA AİT İLK BAŞVURU VE İZLEM SAYILARI YAZILACAKTIR.
A28: Düzenleyen | F28: Onaylayan
A29: Adı Soyadı: | F29: Adı Soyadı:
A30: İmza: | F30: İmza:

Sheet Güzelbahçe
A1: BULAŞICI OLMAYAN HASTALIKLAR VE PROGRAMLAR EĞİTİM BİLDİRİM FORMU
A2: İLÇE:
A3: AY: | B3: YIL:
A4: EĞİTİM KONUSU | B4: HİZMET İÇİ EĞİTİM | F4: HALK EĞİTİMİ
B5: KATILIMCI SAYISI | E5: SEANS SAYISI* | F5: KATILIMCI SAYISI | K5: SEANS SAYISI*
B6: DOKTOR | C6: YARDIMCI SAĞLIK PERSONELİ | D6: TOPLAM | F6: ÖĞRENCİ | G6: ÖĞRETMEN | H6: KADIN | I6: ERKEK | J6: TOPLAM
A7: HİPERTANSİYON
A8: TUZ VE SAĞLIK ÜZERİNE ETKİLERİ
A9: BÖBREK HASTALIKLARI
A10: KALP VE DAMAR HASTALIKLARI ÖNLENMESİ VE KONTROLÜ
A11: KRONİK HASTALIKLAR VE KONTROL PROGRAMLARI
A12: DİYABET
A13: GUATR
A14: KOAH
A15: ASTIM
A16: PULMONER REHABİLİTASYON
A17: YAŞLI SAĞLIĞI VE SAĞLIKLI YAŞLANMA
A18: SAĞLIKLI BESLENME
... A24: DİĞER (EĞİTİM ADI AÇIK OLARAK YAZILACAKTIR)
A25: **OBEZİTE DANIŞMA BİRİMİ ÇALIŞMALARI | B25: İLK BAŞVURU SAYISI: | F25: İZLEM SAYISI:
A26: * GERÇEKLEŞTİRİLEN EĞİTİM SAYISI
A27: **İLGİLİ AYA AİT İLK BAŞVURU VE İZLEM SAYILARI YAZILACAKTIR.
A28: Düzenleyen | F28: Onaylayan
A29: Adı Soyadı: | F29: Adı Soyadı:
A30: İmza: | F30: İmza:

Sheet Karabağlar
A1: BULAŞICI OLMAYAN HASTALIKLAR VE PROGRAMLAR EĞİTİM BİLDİRİM FORMU
A2: İLÇE:
A3: AY: | B3: YIL:
A4: EĞİTİM KONUSU | B4: HİZMET İÇİ EĞİTİM | F4: HALK EĞİTİMİ
B5: KATILIMCI SAYISI | E5: SEANS SAYISI* | F5: KATILIMCI SAYISI | K5: SEANS SAYISI*
B6: DOKTOR | C6: YARDIMCI SAĞLIK PERSONELİ | D6: TOPLAM | F6: ÖĞRENCİ | G6: ÖĞRETMEN | H6: KADIN | I6: ERKEK | J6: TOPLAM
A7: HİPERTANSİYON
A8: TUZ VE SAĞLIK ÜZERİNE ETKİLERİ
A9: BÖBREK HASTALIKLARI
A10: KALP VE DAMAR HASTALIKLARI ÖNLENMESİ VE KONTROLÜ
A11: KRONİK HASTALIKLAR VE KONTROL PROGRAMLARI
A12: DİYABET
A13: GUATR
A14: KOAH
A15: ASTIM
A16: PULMONER REHABİLİTASYON
A17: YAŞLI SAĞLIĞI VE SAĞLIKLI YAŞLANMA
A18: SAĞLIKLI BESLENME
... A24: DİĞER (EĞİTİM ADI AÇIK OLARAK YAZILACAKTIR)
A25: **OBEZİTE DANIŞMA BİRİMİ ÇALIŞMALARI | B25: İLK BAŞVURU SAYISI: | F25: İZLEM SAYISI:
A26: * GERÇEKLEŞTİRİLEN EĞİTİM SAYISI
A27: **İLGİLİ AYA AİT İLK BAŞVURU VE İZLEM SAYILARI YAZILACAKTIR.
A28: Düzenleyen | F28: Onaylayan
A29: Adı Soyadı: | F29: Adı Soyadı:
A30: İmza: | F30: İmza:

Sheet Karaburun
A1: BULAŞICI OLMAYAN HASTALIKLAR VE PROGRAMLAR EĞİTİM BİLDİRİM FORMU
A2: İLÇE:
A3: AY: | B3: YIL:
A4: EĞİTİM KONUSU | B4: HİZMET İÇİ EĞİTİM | F4: HALK EĞİTİMİ
B5: KATILIMCI SAYISI | E5: SEANS SAYISI* | F5: KATILIMCI SAYISI | K5: SEANS SAYISI*
B6: DOKTOR | C6: YARDIMCI SAĞLIK PERSONELİ | D6: TOPLAM | F6: ÖĞRENCİ | G6: ÖĞRETMEN | H6: KADIN | I6: ERKEK | J6: TOPLAM
A7: HİPERTANSİYON
A8: TUZ VE SAĞLIK ÜZERİNE ETKİLERİ
A9: BÖBREK HASTALIKLARI
A10: KALP VE DAMAR HASTALIKLARI ÖNLENMESİ VE KONTROLÜ
A11: KRONİK HASTALIKLAR VE KONTROL PROGRAMLARI
A12: DİYABET
A13: GUATR
A14: KOAH
A15: ASTIM
A16: PULMONER REHABİLİTASYON
A17: YAŞLI SAĞLIĞI VE SAĞLIKLI YAŞLANMA
A18: SAĞLIKLI BESLENME
... A24: DİĞER (EĞİTİM ADI AÇIK OLARAK YAZILACAKTIR)
A25: **OBEZİTE DANIŞMA BİRİMİ ÇALIŞMALARI | B25: İLK BAŞVURU SAYISI: | F25: İZLEM SAYISI:
A26: * GERÇEKLEŞTİRİLEN EĞİTİM SAYISI
A27: **İLGİLİ AYA AİT İLK BAŞVURU VE İZLEM SAYILARI YAZILACAKTIR.
A28: Düzenleyen | F28: Onaylayan
A29: Adı Soyadı: | F29: Adı Soyadı:
A30: İmza: | F30: İmza:

Sheet Karşıyaka
A1: BULAŞICI OLMAYAN HASTALIKLAR VE PROGRAMLAR EĞİTİM BİLDİRİM FORMU
A2: İLÇE:
A3: AY: | B3: YIL:
A4: EĞİTİM KONUSU | B4: HİZMET İÇİ EĞİTİM | F4: HALK EĞİTİMİ
B5: KATILIMCI SAYISI | E5: SEANS SAYISI* | F5: KATILIMCI SAYISI | K5: SEANS SAYISI*
B6: DOKTOR | C6: YARDIMCI SAĞLIK PERSONELİ | D6: TOPLAM | F6: ÖĞRENCİ | G6: ÖĞRETMEN | H6: KADIN | I6: ERKEK | J6: TOPLAM
A7: HİPERTANSİYON
A8: TUZ VE SAĞLIK ÜZERİNE ETKİLERİ
A9: BÖBREK HASTALIKLARI
A10: KALP VE DAMAR HASTALIKLARI ÖNLENMESİ VE KONTROLÜ
A11: KRONİK HASTALIKLAR VE KONTROL PROGRAMLARI
A12: DİYABET
A13: GUATR
A14: KOAH
A15: ASTIM
A16: PULMONER REHABİLİTASYON
A17: YAŞLI SAĞLIĞI VE SAĞLIKLI YAŞLANMA
A18: SAĞLIKLI BESLENME
... A24: DİĞER (EĞİTİM ADI AÇIK OLARAK YAZILACAKTIR)
A25: **OBEZİTE DANIŞMA BİRİMİ ÇALIŞMALARI | B25: İLK BAŞVURU SAYISI: | F25: İZLEM SAYISI:
A26: * GERÇEKLEŞTİRİLEN EĞİTİM SAYISI
A27: **İLGİLİ AYA AİT İLK BAŞVURU VE İZLEM SAYILARI YAZILACAKTIR.
A28: Düzenleyen | F28: Onaylayan
A29: Adı Soyadı: | F29: Adı Soyadı:
A30: İmza: | F30: İmza:

Sheet Kemalpaşa
A1: BULAŞICI OLMAYAN HASTALIKLAR VE PROGRAMLAR EĞİTİM BİLDİRİM FORMU
A2: İLÇE:
A3: AY: | B3: YIL:
A4: EĞİTİM KONUSU | B4: HİZMET İÇİ EĞİTİM | F4: HALK EĞİTİMİ
B5: KATILIMCI SAYISI | E5: SEANS SAYISI* | F5: KATILIMCI SAYISI | K5: SEANS SAYISI*
B6: DOKTOR | C6: YARDIMCI SAĞLIK PERSONELİ | D6: TOPLAM | F6: ÖĞRENCİ | G6: ÖĞRETMEN | H6: KADIN | I6: ERKEK | J6: TOPLAM
A7: HİPERTANSİYON
A8: TUZ VE SAĞLIK ÜZERİNE ETKİLERİ
A9: BÖBREK HASTALIKLARI
A10: KALP VE DAMAR HASTALIKLARI ÖNLENMESİ VE KONTROLÜ
A11: KRONİK HASTALIKLAR VE KONTROL PROGRAMLARI
A12: DİYABET
A13: GUATR
A14: KOAH
A15: ASTIM
A16: PULMONER REHABİLİTASYON
A17: YAŞLI SAĞLIĞI VE SAĞLIKLI YAŞLANMA
A18: SAĞLIKLI BESLENME
... A24: DİĞER (EĞİTİM ADI AÇIK OLARAK YAZILACAKTIR)
A25: **OBEZİTE DANIŞMA BİRİMİ ÇALIŞMALARI | B25: İLK BAŞVURU SAYISI: | F25: İZLEM SAYISI:
A26: * GERÇEKLEŞTİRİLEN EĞİTİM SAYISI
A27: **İLGİLİ AYA AİT İLK BAŞVURU VE İZLEM SAYILARI YAZILACAKTIR.
A28: Düzenleyen | F28: Onaylayan
A29: Adı Soyadı: | F29: Adı Soyadı:
A30: İmza: | F30: İmza:

Sheet Kınık
A1: BULAŞICI OLMAYAN HASTALIKLAR VE PROGRAMLAR EĞİTİM BİLDİRİM FORMU
A2: İLÇE:
A3: AY: | B3: YIL:
A4: EĞİTİM KONUSU | B4: HİZMET İÇİ EĞİTİM | F4: HALK EĞİTİMİ
B5: KATILIMCI SAYISI | E5: SEANS SAYISI* | F5: KATILIMCI SAYISI | K5: SEANS SAYISI*
B6: DOKTOR | C6: YARDIMCI SAĞLIK PERSONELİ | D6: TOPLAM | F6: ÖĞRENCİ | G6: ÖĞRETMEN | H6: KADIN | I6: ERKEK | J6: TOPLAM
A7: HİPERTANSİYON
A8: TUZ VE SAĞLIK ÜZERİNE ETKİLERİ
A9: BÖBREK HASTALIKLARI
A10: KALP VE DAMAR HASTALIKLARI ÖNLENMESİ VE KONTROLÜ
A11: KRONİK HASTALIKLAR VE KONTROL PROGRAMLARI
A12: DİYABET
A13: GUATR
A14: KOAH
A15: ASTIM
A16: PULMONER REHABİLİTASYON
A17: YAŞLI SAĞLIĞI VE SAĞLIKLI YAŞLANMA
A18: SAĞLIKLI BESLENME
... A24: DİĞER (EĞİTİM ADI AÇIK OLARAK YAZILACAKTIR)
A25: **OBEZİTE DANIŞMA BİRİMİ ÇALIŞMALARI | B25: İLK BAŞVURU SAYISI: | F25: İZLEM SAYISI:
A26: * GERÇEKLEŞTİRİLEN EĞİTİM SAYISI
A27: **İLGİLİ AYA AİT İLK BAŞVURU VE İZLEM SAYILARI YAZILACAKTIR.
A28: Düzenleyen | F28: Onaylayan
A29: Adı Soyadı: | F29: Adı Soyadı:
A30: İmza: | F30: İmza:

Sheet Kiraz
A1: BULAŞICI OLMAYAN HASTALIKLAR VE PROGRAMLAR EĞİTİM BİLDİRİM FORMU
A2: İLÇE:
A3: AY: | B3: YIL:
A4: EĞİTİM KONUSU | B4: HİZMET İÇİ EĞİTİM | F4: HALK EĞİTİMİ
B5: KATILIMCI SAYISI | E5: SEANS SAYISI* | F5: KATILIMCI SAYISI | K5: SEANS SAYISI*
B6: DOKTOR | C6: YARDIMCI SAĞLIK PERSONELİ | D6: TOPLAM | F6: ÖĞRENCİ | G6: ÖĞRETMEN | H6: KADIN | I6: ERKEK | J6: TOPLAM
A7: HİPERTANSİYON
A8: TUZ VE SAĞLIK ÜZERİNE ETKİLERİ
A9: BÖBREK HASTALIKLARI
A10: KALP VE DAMAR HASTALIKLARI ÖNLENMESİ VE KONTROLÜ
A11: KRONİK HASTALIKLAR VE KONTROL PROGRAMLARI
A12: DİYABET
A13: GUATR
A14: KOAH
A15: ASTIM
A16: PULMONER REHABİLİTASYON
A17: YAŞLI SAĞLIĞI VE SAĞLIKLI YAŞLANMA
A18: SAĞLIKLI BESLENME
... A24: DİĞER (EĞİTİM ADI AÇIK OLARAK YAZILACAKTIR)
A25: **OBEZİTE DANIŞMA BİRİMİ ÇALIŞMALARI | B25: İLK BAŞVURU SAYISI: | F25: İZLEM SAYISI:
A26: * GERÇEKLEŞTİRİLEN EĞİTİM SAYISI
A27: **İLGİLİ AYA AİT İLK BAŞVURU VE İZLEM SAYILARI YAZILACAKTIR.
A28: Düzenleyen | F28: Onaylayan
A29: Adı Soyadı: | F29: Adı Soyadı:
A30: İmza: | F30: İmza:

Sheet Konak
A1: BULAŞICI OLMAYAN HASTALIKLAR VE PROGRAMLAR EĞİTİM BİLDİRİM FORMU
A2: İLÇE:
A3: AY: | B3: YIL:
A4: EĞİTİM KONUSU | B4: HİZMET İÇİ EĞİTİM | F4: HALK EĞİTİMİ
B5: KATILIMCI SAYISI | E5: SEANS SAYISI* | F5: KATILIMCI SAYISI | K5: SEANS SAYISI*
B6: DOKTOR | C6: YARDIMCI SAĞLIK PERSONELİ | D6: TOPLAM | F6: ÖĞRENCİ | G6: ÖĞRETMEN | H6: KADIN | I6: ERKEK | J6: TOPLAM
A7: HİPERTANSİYON
A8: TUZ VE SAĞLIK ÜZERİNE ETKİLERİ
A9: BÖBREK HASTALIKLARI
A10: KALP VE DAMAR HASTALIKLARI ÖNLENMESİ VE KONTROLÜ
A11: KRONİK HASTALIKLAR VE KONTROL PROGRAMLARI
A12: DİYABET
A13: GUATR
A14: KOAH
A15: ASTIM
A16: PULMONER REHABİLİTASYON
A17: YAŞLI SAĞLIĞI VE SAĞLIKLI YAŞLANMA
A18: SAĞLIKLI BESLENME
... A24: DİĞER (EĞİTİM ADI AÇIK OLARAK YAZILACAKTIR)
A25: **OBEZİTE DANIŞMA BİRİMİ ÇALIŞMALARI | B25: İLK BAŞVURU SAYISI: | F25: İZLEM SAYISI:
A26: * GERÇEKLEŞTİRİLEN EĞİTİM SAYISI
A27: **İLGİLİ AYA AİT İLK BAŞVURU VE İZLEM SAYILARI YAZILACAKTIR.
A28: Düzenleyen | F28: Onaylayan
A29: Adı Soyadı: | F29: Adı Soyadı:
A30: İmza: | F30: İmza:

Sheet Menderes
A1: BULAŞICI OLMAYAN HASTALIKLAR VE PROGRAMLAR EĞİTİM BİLDİRİM FORMU
A2: İLÇE:
A3: AY: | B3: YIL:
A4: EĞİTİM KONUSU | B4: HİZMET İÇİ EĞİTİM | F4: HALK EĞİTİMİ
B5: KATILIMCI SAYISI | E5: SEANS SAYISI* | F5: KATILIMCI SAYISI | K5: SEANS SAYISI*
B6: DOKTOR | C6: YARDIMCI SAĞLIK PERSONELİ | D6: TOPLAM | F6: ÖĞRENCİ | G6: ÖĞRETMEN | H6: KADIN | I6: ERKEK | J6: TOPLAM
A7: HİPERTANSİYON
A8: TUZ VE SAĞLIK ÜZERİNE ETKİLERİ
A9: BÖBREK HASTALIKLARI
A10: KALP VE DAMAR HASTALIKLARI ÖNLENMESİ VE KONTROLÜ
A11: KRONİK HASTALIKLAR VE KONTROL PROGRAMLARI
A12: DİYABET
A13: GUATR
A14: KOAH
A15: ASTIM
A16: PULMONER REHABİLİTASYON
A17: YAŞLI SAĞLIĞI VE SAĞLIKLI YAŞLANMA
A18: SAĞLIKLI BESLENME
... A24: DİĞER (EĞİTİM ADI AÇIK OLARAK YAZILACAKTIR)
A25: **OBEZİTE DANIŞMA BİRİMİ ÇALIŞMALARI | B25: İLK BAŞVURU SAYISI: | F25: İZLEM SAYISI:
A26: * GERÇEKLEŞTİRİLEN EĞİTİM SAYISI
A27: **İLGİLİ AYA AİT İLK BAŞVURU VE İZLEM SAYILARI YAZILACAKTIR.
A28: Düzenleyen | F28: Onaylayan
A29: Adı Soyadı: | F29: Adı Soyadı:
A30: İmza: | F30: İmza:

Sheet Menemen
A1: BULAŞICI OLMAYAN HASTALIKLAR VE PROGRAMLAR EĞİTİM BİLDİRİM FORMU
A2: İLÇE:
A3: AY: | B3: YIL:
A4: EĞİTİM KONUSU | B4: HİZMET İÇİ EĞİTİM | F4: HALK EĞİTİMİ
B5: KATILIMCI SAYISI | E5: SEANS SAYISI* | F5: KATILIMCI SAYISI | K5: SEANS SAYISI*
B6: DOKTOR | C6: YARDIMCI SAĞLIK PERSONELİ | D6: TOPLAM | F6: ÖĞRENCİ | G6: ÖĞRETMEN | H6: KADIN | I6: ERKEK | J6: TOPLAM
A7: HİPERTANSİYON
A8: TUZ VE SAĞLIK ÜZERİNE ETKİLERİ
A9: BÖBREK HASTALIKLARI
A10: KALP VE DAMAR HASTALIKLARI ÖNLENMESİ VE KONTROLÜ
A11: KRONİK HASTALIKLAR VE KONTROL PROGRAMLARI
A12: DİYABET
A13: GUATR
A14: KOAH
A15: ASTIM
A16: PULMONER REHABİLİTASYON
A17: YAŞLI SAĞLIĞI VE SAĞLIKLI YAŞLANMA
A18: SAĞLIKLI BESLENME
... A24: DİĞER (EĞİTİM ADI AÇIK OLARAK YAZILACAKTIR)
A25: **OBEZİTE DANIŞMA BİRİMİ ÇALIŞMALARI | B25: İLK BAŞVURU SAYISI: | F25: İZLEM SAYISI:
A26: * GERÇEKLEŞTİRİLEN EĞİTİM SAYISI
A27: **İLGİLİ AYA AİT İLK BAŞVURU VE İZLEM SAYILARI YAZILACAKTIR.
A28: Düzenleyen | F28: Onaylayan
A29: Adı Soyadı: | F29: Adı Soyadı:
A30: İmza: | F30: İmza:

Sheet Ödemiş
A1: BULAŞICI OLMAYAN HASTALIKLAR VE PROGRAMLAR EĞİTİM BİLDİRİM FORMU
A2: İLÇE:
A3: AY: | B3: YIL:
A4: EĞİTİM KONUSU | B4: HİZMET İÇİ EĞİTİM | F4: HALK EĞİTİMİ
B5: KATILIMCI SAYISI | E5: SEANS SAYISI* | F5: KATILIMCI SAYISI | K5: SEANS SAYISI*
B6: DOKTOR | C6: YARDIMCI SAĞLIK PERSONELİ | D6: TOPLAM | F6: ÖĞRENCİ | G6: ÖĞRETMEN | H6: KADIN | I6: ERKEK | J6: TOPLAM
A7: HİPERTANSİYON
A8: TUZ VE SAĞLIK ÜZERİNE ETKİLERİ
A9: BÖBREK HASTALIKLARI
A10: KALP VE DAMAR HASTALIKLARI ÖNLENMESİ VE KONTROLÜ
A11: KRONİK HASTALIKLAR VE KONTROL PROGRAMLARI
A12: DİYABET
A13: GUATR
A14: KOAH
A15: ASTIM
A16: PULMONER REHABİLİTASYON
A17: YAŞLI SAĞLIĞI VE SAĞLIKLI YAŞLANMA
A18: SAĞLIKLI BESLENME
... A24: DİĞER (EĞİTİM ADI AÇIK OLARAK YAZILACAKTIR)
A25: **OBEZİTE DANIŞMA BİRİMİ ÇALIŞMALARI | B25: İLK BAŞVURU SAYISI: | F25: İZLEM SAYISI:
A26: * GERÇEKLEŞTİRİLEN EĞİTİM SAYISI
A27: **İLGİLİ AYA AİT İLK BAŞVURU VE İZLEM SAYILARI YAZILACAKTIR.
A28: Düzenleyen | F28: Onaylayan
A29: Adı Soyadı: | F29: Adı Soyadı:
A30: İmza: | F30: İmza:

Sheet Narlıdere
A1: BULAŞICI OLMAYAN HASTALIKLAR VE PROGRAMLAR EĞİTİM BİLDİRİM FORMU
A2: İLÇE:
A3: AY: | B3: YIL:
A4: EĞİTİM KONUSU | B4: HİZMET İÇİ EĞİTİM | F4: HALK EĞİTİMİ
B5: KATILIMCI SAYISI | E5: SEANS SAYISI* | F5: KATILIMCI SAYISI | K5: SEANS SAYISI*
B6: DOKTOR | C6: YARDIMCI SAĞLIK PERSONELİ | D6: TOPLAM | F6: ÖĞRENCİ | G6: ÖĞRETMEN | H6: KADIN | I6: ERKEK | J6: TOPLAM
A7: HİPERTANSİYON
A8: TUZ VE SAĞLIK ÜZERİNE ETKİLERİ
A9: BÖBREK HASTALIKLARI
A10: KALP VE DAMAR HASTALIKLARI ÖNLENMESİ VE KONTROLÜ
A11: KRONİK HASTALIKLAR VE KONTROL PROGRAMLARI
A12: DİYABET
A13: GUATR
A14: KOAH
A15: ASTIM
A16: PULMONER REHABİLİTASYON
A17: YAŞLI SAĞLIĞI VE SAĞLIKLI YAŞLANMA
A18: SAĞLIKLI BESLENME
... A24: DİĞER (EĞİTİM ADI AÇIK OLARAK YAZILACAKTIR)
A25: **OBEZİTE DANIŞMA BİRİMİ ÇALIŞMALARI | B25: İLK BAŞVURU SAYISI: | F25: İZLEM SAYISI:
A26: * GERÇEKLEŞTİRİLEN EĞİTİM SAYISI
A27: **İLGİLİ AYA AİT İLK BAŞVURU VE İZLEM SAYILARI YAZILACAKTIR.
A28: Düzenleyen | F28: Onaylayan
A29: Adı Soyadı: | F29: Adı Soyadı:
A30: İmza: | F30: İmza:

Sheet Seferihisar
A1: BULAŞICI OLMAYAN HASTALIKLAR VE PROGRAMLAR EĞİTİM BİLDİRİM FORMU
A2: İLÇE:
A3: AY: | B3: YIL:
A4: EĞİTİM KONUSU | B4: HİZMET İÇİ EĞİTİM | F4: HALK EĞİTİMİ
B5: KATILIMCI SAYISI | E5: SEANS SAYISI* | F5: KATILIMCI SAYISI | K5: SEANS SAYISI*
B6: DOKTOR | C6: YARDIMCI SAĞLIK PERSONELİ | D6: TOPLAM | F6: ÖĞRENCİ | G6: ÖĞRETMEN | H6: KADIN | I6: ERKEK | J6: TOPLAM
A7: HİPERTANSİYON
A8: TUZ VE SAĞLIK ÜZERİNE ETKİLERİ
A9: BÖBREK HASTALIKLARI
A10: KALP VE DAMAR HASTALIKLARI ÖNLENMESİ VE KONTROLÜ
A11: KRONİK HASTALIKLAR VE KONTROL PROGRAMLARI
A12: DİYABET
A13: GUATR
A14: KOAH
A15: ASTIM
A16: PULMONER REHABİLİTASYON
A17: YAŞLI SAĞLIĞI VE SAĞLIKLI YAŞLANMA
A18: SAĞLIKLI BESLENME
... A24: DİĞER (EĞİTİM ADI AÇIK OLARAK YAZILACAKTIR)
A25: **OBEZİTE DANIŞMA BİRİMİ ÇALIŞMALARI | B25: İLK BAŞVURU SAYISI: | F25: İZLEM SAYISI:
A26: * GERÇEKLEŞTİRİLEN EĞİTİM SAYISI
A27: **İLGİLİ AYA AİT İLK BAŞVURU VE İZLEM SAYILARI YAZILACAKTIR.
A28: Düzenleyen | F28: Onaylayan
A29: Adı Soyadı: | F29: Adı Soyadı:
A30: İmza: | F30: İmza:

Sheet Selçuk
A1: BULAŞICI OLMAYAN HASTALIKLAR VE PROGRAMLAR EĞİTİM BİLDİRİM FORMU
A2: İLÇE:
A3: AY: | B3: YIL:
A4: EĞİTİM KONUSU | B4: HİZMET İÇİ EĞİTİM | F4: HALK EĞİTİMİ
B5: KATILIMCI SAYISI | E5: SEANS SAYISI* | F5: KATILIMCI SAYISI | K5: SEANS SAYISI*
B6: DOKTOR | C6: YARDIMCI SAĞLIK PERSONELİ | D6: TOPLAM | F6: ÖĞRENCİ | G6: ÖĞRETMEN | H6: KADIN | I6: ERKEK | J6: TOPLAM
A7: HİPERTANSİYON
A8: TUZ VE SAĞLIK ÜZERİNE ETKİLERİ
A9: BÖBREK HASTALIKLARI
A10: KALP VE DAMAR HASTALIKLARI ÖNLENMESİ VE KONTROLÜ
A11: KRONİK HASTALIKLAR VE KONTROL PROGRAMLARI
A12: DİYABET
A13: GUATR
A14: KOAH
A15: ASTIM
A16: PULMONER REHABİLİTASYON
A17: YAŞLI SAĞLIĞI VE SAĞLIKLI YAŞLANMA
A18: SAĞLIKLI BESLENME
... A24: DİĞER (EĞİTİM ADI AÇIK OLARAK YAZILACAKTIR)
A25: **OBEZİTE DANIŞMA BİRİMİ ÇALIŞMALARI | B25: İLK BAŞVURU SAYISI: | F25: İZLEM SAYISI:
A26: * GERÇEKLEŞTİRİLEN EĞİTİM SAYISI
A27: **İLGİLİ AYA AİT İLK BAŞVURU VE İZLEM SAYILARI YAZILACAKTIR.
A28: Düzenleyen | F28: Onaylayan
A29: Adı Soyadı: | F29: Adı Soyadı:
A30: İmza: | F30: İmza:

Sheet Tire
A1: BULAŞICI OLMAYAN HASTALIKLAR VE PROGRAMLAR EĞİTİM BİLDİRİM FORMU
A2: İLÇE:
A3: AY: | B3: YIL:
A4: EĞİTİM KONUSU | B4: HİZMET İÇİ EĞİTİM | F4: HALK EĞİTİMİ
B5: KATILIMCI SAYISI | E5: SEANS SAYISI* | F5: KATILIMCI SAYISI | K5: SEANS SAYISI*
B6: DOKTOR | C6: YARDIMCI SAĞLIK PERSONELİ | D6: TOPLAM | F6: ÖĞRENCİ | G6: ÖĞRETMEN | H6: KADIN | I6: ERKEK | J6: TOPLAM
A7: HİPERTANSİYON
A8: TUZ VE SAĞLIK ÜZERİNE ETKİLERİ
A9: BÖBREK HASTALIKLARI
A10: KALP VE DAMAR HASTALIKLARI ÖNLENMESİ VE KONTROLÜ
A11: KRONİK HASTALIKLAR VE KONTROL PROGRAMLARI
A12: DİYABET
A13: GUATR
A14: KOAH
A15: ASTIM
A16: PULMONER REHABİLİTASYON
A17: YAŞLI SAĞLIĞI VE SAĞLIKLI YAŞLANMA
A18: SAĞLIKLI BESLENME
... A24: DİĞER (EĞİTİM ADI AÇIK OLARAK YAZILACAKTIR)
A25: **OBEZİTE DANIŞMA BİRİMİ ÇALIŞMALARI | B25: İLK BAŞVURU SAYISI: | F25: İZLEM SAYISI:
A26: * GERÇEKLEŞTİRİLEN EĞİTİM SAYISI
A27: **İLGİLİ AYA AİT İLK BAŞVURU VE İZLEM SAYILARI YAZILACAKTIR.
A28: Düzenleyen | F28: Onaylayan
A29: Adı Soyadı: | F29: Adı Soyadı:
A30: İmza: | F30: İmza:

Sheet Torbalı
A1: BULAŞICI OLMAYAN HASTALIKLAR VE PROGRAMLAR EĞİTİM BİLDİRİM FORMU
A2: İLÇE:
A3: AY: | B3: YIL:
A4: EĞİTİM KONUSU | B4: HİZMET İÇİ EĞİTİM | F4: HALK EĞİTİMİ
B5: KATILIMCI SAYISI | E5: SEANS SAYISI* | F5: KATILIMCI SAYISI | K5: SEANS SAYISI*
B6: DOKTOR | C6: YARDIMCI SAĞLIK PERSONELİ | D6: TOPLAM | F6: ÖĞRENCİ | G6: ÖĞRETMEN | H6: KADIN | I6: ERKEK | J6: TOPLAM
A7: HİPERTANSİYON
A8: TUZ VE SAĞLIK ÜZERİNE ETKİLERİ
A9: BÖBREK HASTALIKLARI
A10: KALP VE DAMAR HASTALIKLARI ÖNLENMESİ VE KONTROLÜ
A11: KRONİK HASTALIKLAR VE KONTROL PROGRAMLARI
A12: DİYABET
A13: GUATR
A14: KOAH
A15: ASTIM
A16: PULMONER REHABİLİTASYON
A17: YAŞLI SAĞLIĞI VE SAĞLIKLI YAŞLANMA
A18: SAĞLIKLI BESLENME
... A24: DİĞER (EĞİTİM ADI AÇIK OLARAK YAZILACAKTIR)
A25: **OBEZİTE DANIŞMA BİRİMİ ÇALIŞMALARI | B25: İLK BAŞVURU SAYISI: | F25: İZLEM SAYISI:
A26: * GERÇEKLEŞTİRİLEN EĞİTİM SAYISI
A27: **İLGİLİ AYA AİT İLK BAŞVURU VE İZLEM SAYILARI YAZILACAKTIR.
A28: Düzenleyen | F28: Onaylayan
A29: Adı Soyadı: | F29: Adı Soyadı:
A30: İmza: | F30: İmza:

Sheet Urla
A1: BULAŞICI OLMAYAN HASTALIKLAR VE PROGRAMLAR EĞİTİM BİLDİRİM FORMU
A2: İLÇE:
A3: AY: | B3: YIL:
A4: EĞİTİM KONUSU | B4: HİZMET İÇİ EĞİTİM | F4: HALK EĞİTİMİ
B5: KATILIMCI SAYISI | E5: SEANS SAYISI* | F5: KATILIMCI SAYISI | K5: SEANS SAYISI*
B6: DOKTOR | C6: YARDIMCI SAĞLIK PERSONELİ | D6: TOPLAM | F6: ÖĞRENCİ | G6: ÖĞRETMEN | H6: KADIN | I6: ERKEK | J6: TOPLAM
A7: HİPERTANSİYON
A8: TUZ VE SAĞLIK ÜZERİNE ETKİLERİ
A9: BÖBREK HASTALIKLARI
A10: KALP VE DAMAR HASTALIKLARI ÖNLENMESİ VE KONTROLÜ
A11: KRONİK HASTALIKLAR VE KONTROL PROGRAMLARI
A12: DİYABET
A13: GUATR
A14: KOAH
A15: ASTIM
A16: PULMONER REHABİLİTASYON
A17: YAŞLI SAĞLIĞI VE SAĞLIKLI YAŞLANMA
A18: SAĞLIKLI BESLENME
... A24: DİĞER (EĞİTİM ADI AÇIK OLARAK YAZILACAKTIR)
A25: **OBEZİTE DANIŞMA BİRİMİ ÇALIŞMALARI | B25: İLK BAŞVURU SAYISI: | F25: İZLEM SAYISI:
A26: * GERÇEKLEŞTİRİLEN EĞİTİM SAYISI
A27: **İLGİLİ AYA AİT İLK BAŞVURU VE İZLEM SAYILARI YAZILACAKTIR.
A28: Düzenleyen | F28: Onaylayan
A29: Adı Soyadı: | F29: Adı Soyadı:
A30: İmza: | F30: İmza:

Sheet ihsm
A1: BULAŞICI OLMAYAN HASTALIKLAR VE PROGRAMLAR EĞİTİM BİLDİRİM FORMU
A2: İLÇE:
A3: AY: | B3: YIL:
A4: EĞİTİM KONUSU | B4: HİZMET İÇİ EĞİTİM | F4: HALK EĞİTİMİ
B5: KATILIMCI SAYISI | E5: SEANS SAYISI* | F5: KATILIMCI SAYISI | K5: SEANS SAYISI*
B6: DOKTOR | C6: YARDIMCI SAĞLIK PERSONELİ | D6: TOPLAM | F6: ÖĞRENCİ | G6: ÖĞRETMEN | H6: KADIN | I6: ERKEK | J6: TOPLAM
A7: HİPERTANSİYON
A8: TUZ VE SAĞLIK ÜZERİNE ETKİLERİ
A9: BÖBREK HASTALIKLARI
A10: KALP VE DAMAR HASTALIKLARI ÖNLENMESİ VE KONTROLÜ
A11: KRONİK HASTALIKLAR VE KONTROL PROGRAMLARI
A12: DİYABET
A13: GUATR
A14: KOAH
A15: ASTIM
A16: PULMONER REHABİLİTASYON
A17: YAŞLI SAĞLIĞI VE SAĞLIKLI YAŞLANMA
A18: SAĞLIKLI BESLENME
... A24: DİĞER (EĞİTİM ADI AÇIK OLARAK YAZILACAKTIR)
A25: **OBEZİTE DANIŞMA BİRİMİ ÇALIŞMALARI | B25: İLK BAŞVURU SAYISI: | F25: İZLEM SAYISI:
A26: * GERÇEKLEŞTİRİLEN EĞİTİM SAYISI
A27: **İLGİLİ AYA AİT İLK BAŞVURU VE İZLEM SAYILARI YAZILACAKTIR.
A28: Düzenleyen | F28: Onaylayan
A29: Adı Soyadı: | F29: Adı Soyadı:
A30: İmza: | F30: İmza:
