Workbook
Name AY: #REF!
Name AYI: Sayfa2!$G$14:$G$26
Name DAĞITILAN: Sayfa2!$J$1:$J$12
Name DİĞER: Sayfa2!$G$1:$G$7
Name FAALİYET: Sayfa2!$D$1:$D$8
Name HEDEF: Sayfa2!$A$13:$A$22
Name HEDEFİ: Sayfa2!$A$13:$A$23
Name KİTLE: #REF!
Name MALZEME: #REF!
Name MEKAN: Sayfa2!$A$1:$A$10
Name MEKANI: Sayfa2!$A$1:$A$11
Name ÖLÇÜM: Sayfa2!$G$1:$G$7
Name ÖLÇÜMLER: #REF!
Name SEANS: #REF!
Name TÜR: #REF!
Name TÜRÜ: Sayfa2!$D$1:$D$7
Name YER: Sayfa2!$B$6
Name YERİ: #REF!

Sheet YENİ Faaliyet Formu -TOPLAM
A1: BULAŞICI OLMAYAN HASTALIKLAR VE PROGRAMLAR FAALİYET BİLDİRİM FORMU
A2: İL: | B2: İZMİR
A3: AY: | D3: YIL:
A4: SIRA NO | B4: ETKİNLİĞİN KONUSU | C4: ETKİNLİĞİN YERİ | D4: HEDEF KİTLE | E4: ETKİNLİĞİN TÜRÜ | F4: YAPILAN DİĞER ETKİNLİKLER | G4: DAĞITILAN MALZEMELER | H4: DAĞITILAN MALZEME SAYISI | I4: ULAŞILAN KİŞİ SAYISI | J4: GÖREV ALAN KİŞİ SAYISI | K4: SEANS SAYISI
B5: (LÜTFEN SIRALAMADA DEĞİŞİKLİK YAPMAYINIZ;SATIR VEYA SÜTUN SİLMEYİNİZ; LİSTEDE OLMAYAN ETKİNLİKLERİNİZİ DİĞER KISMINA YAZINIZ) | C5: (Lütfen aşağıdaki hücrelerin sağında beliren işarete tıklayarak seçiminizi yapınız) | D5: (Lütfen aşağıdaki hücrelerin sağında beliren işarete tıklayarak seçiminizi yapınız) | E5: (Lütfen aşağıdaki hücrelerin sağında beliren işarete tıklayarak seçiminizi yapınız) | F5: (Lütfen aşağıdaki hücrelerin sağında beliren işarete tıklayarak seçiminizi yapınız) | G5: (Lütfen aşağıdaki hücrelerin sağında beliren işarete tıklayarak seçiminizi yapınız) | H5: (TOPLAMI SADECE SAYI OLARAK YAZINIZ) | I5: (TOPLAMI SADECE SAYI OLARAK YAZINIZ) | J5: (TOPLAMI SADECE SAYI OLARAK YAZINIZ) | K5: (TOPLAMI SADECE SAYI OLARAK YAZINIZ)
A6: 1 | B6: Kalp Günü / Haftası | H6: =SUM(ALİAĞA!H6+BALÇOVA!H6+BAYINDIR!H6+BAYRAKLI!H6+BERGAMA!H6+BEYDAĞ!H6+BORNOVA!H6+BUCA!H6+ÇEŞME!H6+ÇİĞLİ!H6+DİKİLİ!H6+FOÇA!H6+GAZİEMİR!H6+GÜZELBAHÇE!H6+KARABAĞLAR!H6+KARABURUN!H6+KARŞIYAKA!H6+KEMALPAŞA!H6+KINIK!H6+KİRAZ!H6+KONAK!H6+MENDERES!H6+MENEMEN!H6+NARLIDERE!H6+ÖDEMİŞ!H6+SEFERİHİSAR!H6+SELÇUK!H6+TİRE!H6+TORBALI!H6+URLA!H6+İHSM!H6) -> 0 | I6: =SUM(ALİAĞA!I6+BALÇOVA!I6+BAYINDIR!I6+BAYRAKLI!I6+BERGAMA!I6+BEYDAĞ!I6+BORNOVA!I6+BUCA!I6+ÇEŞME!I6+ÇİĞLİ!I6+DİKİLİ!I6+FOÇA!I6+GAZİEMİR!I6+GÜZELBAHÇE!I6+KARABAĞLAR!I6+KARABURUN!I6+KARŞIYAKA!I6+KEMALPAŞA!I6+KINIK!I6+KİRAZ!I6+KONAK!I6+MENDERES!I6+MENEMEN!I6+NARLIDERE!I6+ÖDEMİŞ!I6+SEFERİHİSAR!I6+SELÇUK!I6+TİRE!I6+TORBALI!I6+URLA!I6+İHSM!I6) -> 0 | J6: =SUM(ALİAĞA!J6+BALÇOVA!J6+BAYINDIR!J6+BAYRAKLI!J6+BERGAMA!J6+BEYDAĞ!J6+BORNOVA!J6+BUCA!J6+ÇEŞME!J6+ÇİĞLİ!J6+DİKİLİ!J6+FOÇA!J6+GAZİEMİR!J6+GÜZELBAHÇE!J6+KARABAĞLAR!J6+KARABURUN!J6+KARŞIYAKA!J6+KEMALPAŞA!J6+KINIK!J6+KİRAZ!J6+KONAK!J6+MENDERES!J6+MENEMEN!J6+NARLIDERE!J6+ÖDEMİŞ!J6+SEFERİHİSAR!J6+SELÇUK!J6+TİRE!J6+TORBALI!J6+URLA!J6+İHSM!J6) -> 0 | K6: =SUM(ALİAĞA!K6+BALÇOVA!K6+BAYINDIR!K6+BAYRAKLI!K6+BERGAMA!K6+BEYDAĞ!K6+BORNOVA!K6+BUCA!K6+ÇEŞME!K6+ÇİĞLİ!K6+DİKİLİ!K6+FOÇA!K6+GAZİEMİR!K6+GÜZELBAHÇE!K6+KARABAĞLAR!K6+KARABURUN!K6+KARŞIYAKA!K6+KEMALPAŞA!K6+KINIK!K6+KİRAZ!K6+KONAK!K6+MENDERES!K6+MENEMEN!K6+NARLIDERE!K6+ÖDEMİŞ!K6+SEFERİHİSAR!K6+SELÇUK!K6+TİRE!K6+TORBALI!K6+URLA!K6+İHSM!K6) -> 0
A7: 2 | B7: Yaşlılar Günü / Haftası | H7: =SUM(ALİAĞA!H7+BALÇOVA!H7+BAYINDIR!H7+BAYRAKLI!H7+BERGAMA!H7+BEYDAĞ!H7+BORNOVA!H7+BUCA!H7+ÇEŞME!H7+ÇİĞLİ!H7+DİKİLİ!H7+FOÇA!H7+GAZİEMİR!H7+GÜZELBAHÇE!H7+KARABAĞLAR!H7+KARABURUN!H7+KARŞIYAKA!H7+KEMALPAŞA!H7+KINIK!H7+KİRAZ!H7+KONAK!H7+MENDERES!H7+MENEMEN!H7+NARLIDERE!H7+ÖDEMİŞ!H7+SEFERİHİSAR!H7+SELÇUK!H7+TİRE!H7+TORBALI!H7+URLA!H7+İHSM!H7) -> 0 | I7: =SUM(ALİAĞA!I7+BALÇOVA!I7+BAYINDIR!I7+BAYRAKLI!I7+BERGAMA!I7+BEYDAĞ!I7+BORNOVA!I7+BUCA!I7+ÇEŞME!I7+ÇİĞLİ!I7+DİKİLİ!I7+FOÇA!I7+GAZİEMİR!I7+GÜZELBAHÇE!I7+KARABAĞLAR!I7+KARABURUN!I7+KARŞIYAKA!I7+KEMALPAŞA!I7+KINIK!I7+KİRAZ!I7+KONAK!I7+MENDERES!I7+MENEMEN!I7+NARLIDERE!I7+ÖDEMİŞ!I7+SEFERİHİSAR!I7+SELÇUK!I7+TİRE!I7+TORBALI!I7+URLA!I7+İHSM!I7) -> 0 | J7: =SUM(ALİAĞA!J7+BALÇOVA!J7+BAYINDIR!J7+BAYRAKLI!J7+BERGAMA!J7+BEYDAĞ!J7+BORNOVA!J7+BUCA!J7+ÇEŞME!J7+ÇİĞLİ!J7+DİKİLİ!J7+FOÇA!J7+GAZİEMİR!J7+GÜZELBAHÇE!J7+KARABAĞLAR!J7+KARABURUN!J7+KARŞIYAKA!J7+KEMALPAŞA!J7+KINIK!J7+KİRAZ!J7+KONAK!J7+MENDERES!J7+MENEMEN!J7+NARLIDERE!J7+ÖDEMİŞ!J7+SEFERİHİSAR!J7+SELÇUK!J7+TİRE!J7+TORBALI!J7+URLA!J7+İHSM!J7) -> 0 | K7: =SUM(ALİAĞA!K7+BALÇOVA!K7+BAYINDIR!K7+BAYRAKLI!K7+BERGAMA!K7+BEYDAĞ!K7+BORNOVA!K7+BUCA!K7+ÇEŞME!K7+ÇİĞLİ!K7+DİKİLİ!K7+FOÇA!K7+GAZİEMİR!K7+GÜZELBAHÇE!K7+KARABAĞLAR!K7+KARABURUN!K7+KARŞIYAKA!K7+KEMALPAŞA!K7+KINIK!K7+KİRAZ!K7+KONAK!K7+MENDERES!K7+MENEMEN!K7+NARLIDERE!K7+ÖDEMİŞ!K7+SEFERİHİSAR!K7+SELÇUK!K7+TİRE!K7+TORBALI!K7+URLA!K7+İHSM!K7) -> 0
A8: 3 | B8: Osteoporoz Günü | H8: =SUM(ALİAĞA!H8+BALÇOVA!H8+BAYINDIR!H8+BAYRAKLI!H8+BERGAMA!H8+BEYDAĞ!H8+BORNOVA!H8+BUCA!H8+ÇEŞME!H8+ÇİĞLİ!H8+DİKİLİ!H8+FOÇA!H8+GAZİEMİR!H8+GÜZELBAHÇE!H8+KARABAĞLAR!H8+KARABURUN!H8+KARŞIYAKA!H8+KEMALPAŞA!H8+KINIK!H8+KİRAZ!H8+KONAK!H8+MENDERES!H8+MENEMEN!H8+NARLIDERE!H8+ÖDEMİŞ!H8+SEFERİHİSAR!H8+SELÇUK!H8+TİRE!H8+TORBALI!H8+URLA!H8+İHSM!H8) -> 0 | I8: =SUM(ALİAĞA!I8+BALÇOVA!I8+BAYINDIR!I8+BAYRAKLI!I8+BERGAMA!I8+BEYDAĞ!I8+BORNOVA!I8+BUCA!I8+ÇEŞME!I8+ÇİĞLİ!I8+DİKİLİ!I8+FOÇA!I8+GAZİEMİR!I8+GÜZELBAHÇE!I8+KARABAĞLAR!I8+KARABURUN!I8+KARŞIYAKA!I8+KEMALPAŞA!I8+KINIK!I8+KİRAZ!I8+KONAK!I8+MENDERES!I8+MENEMEN!I8+NARLIDERE!I8+ÖDEMİŞ!I8+SEFERİHİSAR!I8+SELÇUK!I8+TİRE!I8+TORBALI!I8+URLA!I8+İHSM!I8) -> 0 | J8: =SUM(ALİAĞA!J8+BALÇOVA!J8+BAYINDIR!J8+BAYRAKLI!J8+BERGAMA!J8+BEYDAĞ!J8+BORNOVA!J8+BUCA!J8+ÇEŞME!J8+ÇİĞLİ!J8+DİKİLİ!J8+FOÇA!J8+GAZİEMİR!J8+GÜZELBAHÇE!J8+KARABAĞLAR!J8+KARABURUN!J8+KARŞIYAKA!J8+KEMALPAŞA!J8+KINIK!J8+KİRAZ!J8+KONAK!J8+MENDERES!J8+MENEMEN!J8+NARLIDERE!J8+ÖDEMİŞ!J8+SEFERİHİSAR!J8+SELÇUK!J8+TİRE!J8+TORBALI!J8+URLA!J8+İHSM!J8) -> 0 | K8: =SUM(ALİAĞA!K8+BALÇOVA!K8+BAYINDIR!K8+BAYRAKLI!K8+BERGAMA!K8+BEYDAĞ!K8+BORNOVA!K8+BUCA!K8+ÇEŞME!K8+ÇİĞLİ!K8+DİKİLİ!K8+FOÇA!K8+GAZİEMİR!K8+GÜZELBAHÇE!K8+KARABAĞLAR!K8+KARABURUN!K8+KARŞIYAKA!K8+KEMALPAŞA!K8+KINIK!K8+KİRAZ!K8+KONAK!K8+MENDERES!K8+MENEMEN!K8+NARLIDERE!K8+ÖDEMİŞ!K8+SEFERİHİSAR!K8+SELÇUK!K8+TİRE!K8+TORBALI!K8+URLA!K8+İHSM!K8) -> 0
A9: 4 | B9: Diyabet Günü / Haftası | H9: =SUM(ALİAĞA!H9+BALÇOVA!H9+BAYINDIR!H9+BAYRAKLI!H9+BERGAMA!H9+BEYDAĞ!H9+BORNOVA!H9+BUCA!H9+ÇEŞME!H9+ÇİĞLİ!H9+DİKİLİ!H9+FOÇA!H9+GAZİEMİR!H9+GÜZELBAHÇE!H9+KARABAĞLAR!H9+KARABURUN!H9+KARŞIYAKA!H9+KEMALPAŞA!H9+KINIK!H9+KİRAZ!H9+KONAK!H9+MENDERES!H9+MENEMEN!H9+NARLIDERE!H9+ÖDEMİŞ!H9+SEFERİHİSAR!H9+SELÇUK!H9+TİRE!H9+TORBALI!H9+URLA!H9+İHSM!H9) -> 0 | I9: =SUM(ALİAĞA!I9+BALÇOVA!I9+BAYINDIR!I9+BAYRAKLI!I9+BERGAMA!I9+BEYDAĞ!I9+BORNOVA!I9+BUCA!I9+ÇEŞME!I9+ÇİĞLİ!I9+DİKİLİ!I9+FOÇA!I9+GAZİEMİR!I9+GÜZELBAHÇE!I9+KARABAĞLAR!I9+KARABURUN!I9+KARŞIYAKA!I9+KEMALPAŞA!I9+KINIK!I9+KİRAZ!I9+KONAK!I9+MENDERES!I9+MENEMEN!I9+NARLIDERE!I9+ÖDEMİŞ!I9+SEFERİHİSAR!I9+SELÇUK!I9+TİRE!I9+TORBALI!I9+URLA!I9+İHSM!I9) -> 0 | J9: =SUM(ALİAĞA!J9+BALÇOVA!J9+BAYINDIR!J9+BAYRAKLI!J9+BERGAMA!J9+BEYDAĞ!J9+BORNOVA!J9+BUCA!J9+ÇEŞME!J9+ÇİĞLİ!J9+DİKİLİ!J9+FOÇA!J9+GAZİEMİR!J9+GÜZELBAHÇE!J9+KARABAĞLAR!J9+KARABURUN!J9+KARŞIYAKA!J9+KEMALPAŞA!J9+KINIK!J9+KİRAZ!J9+KONAK!J9+MENDERES!J9+MENEMEN!J9+NARLIDERE!J9+ÖDEMİŞ!J9+SEFERİHİSAR!J9+SELÇUK!J9+TİRE!J9+TORBALI!J9+URLA!J9+İHSM!J9) -> 0 | K9: =SUM(ALİAĞA!K9+BALÇOVA!K9+BAYINDIR!K9+BAYRAKLI!K9+BERGAMA!K9+BEYDAĞ!K9+BORNOVA!K9+BUCA!K9+ÇEŞME!K9+ÇİĞLİ!K9+DİKİLİ!K9+FOÇA!K9+GAZİEMİR!K9+GÜZELBAHÇE!K9+KARABAĞLAR!K9+KARABURUN!K9+KARŞIYAKA!K9+KEMALPAŞA!K9+KINIK!K9+KİRAZ!K9+KONAK!K9+MENDERES!K9+MENEMEN!K9+NARLIDERE!K9+ÖDEMİŞ!K9+SEFERİHİSAR!K9+SELÇUK!K9+TİRE!K9+TORBALI!K9+URLA!K9+İHSM!K9) -> 0
A10: 5 | B10: KOAH Günü | H10: =SUM(ALİAĞA!H10+BALÇOVA!H10+BAYINDIR!H10+BAYRAKLI!H10+BERGAMA!H10+BEYDAĞ!H10+BORNOVA!H10+BUCA!H10+ÇEŞME!H10+ÇİĞLİ!H10+DİKİLİ!H10+FOÇA!H10+GAZİEMİR!H10+GÜZELBAHÇE!H10+KARABAĞLAR!H10+KARABURUN!H10+KARŞIYAKA!H10+KEMALPAŞA!H10+KINIK!H10+KİRAZ!H10+KONAK!H10+MENDERES!H10+MENEMEN!H10+NARLIDERE!H10+ÖDEMİŞ!H10+SEFERİHİSAR!H10+SELÇUK!H10+TİRE!H10+TORBALI!H10+URLA!H10+İHSM!H10) -> 0 | I10: =SUM(ALİAĞA!I10+BALÇOVA!I10+BAYINDIR!I10+BAYRAKLI!I10+BERGAMA!I10+BEYDAĞ!I10+BORNOVA!I10+BUCA!I10+ÇEŞME!I10+ÇİĞLİ!I10+DİKİLİ!I10+FOÇA!I10+GAZİEMİR!I10+GÜZELBAHÇE!I10+KARABAĞLAR!I10+KARABURUN!I10+KARŞIYAKA!I10+KEMALPAŞA!I10+KINIK!I10+KİRAZ!I10+KONAK!I10+MENDERES!I10+MENEMEN!I10+NARLIDERE!I10+ÖDEMİŞ!I10+SEFERİHİSAR!I10+SELÇUK!I10+TİRE!I10+TORBALI!I10+URLA!I10+İHSM!I10) -> 0 | J10: =SUM(ALİAĞA!J10+BALÇOVA!J10+BAYINDIR!J10+BAYRAKLI!J10+BERGAMA!J10+BEYDAĞ!J10+BORNOVA!J10+BUCA!J10+ÇEŞME!J10+ÇİĞLİ!J10+DİKİLİ!J10+FOÇA!J10+GAZİEMİR!J10+GÜZELBAHÇE!J10+KARABAĞLAR!J10+KARABURUN!J10+KARŞIYAKA!J10+KEMALPAŞA!J10+KINIK!J10+KİRAZ!J10+KONAK!J10+MENDERES!J10+MENEMEN!J10+NARLIDERE!J10+ÖDEMİŞ!J10+SEFERİHİSAR!J10+SELÇUK!J10+TİRE!J10+TORBALI!J10+URLA!J10+İHSM!J10) -> 0 | K10: =SUM(ALİAĞA!K10+BALÇOVA!K10+BAYINDIR!K10+BAYRAKLI!K10+BERGAMA!K10+BEYDAĞ!K10+BORNOVA!K10+BUCA!K10+ÇEŞME!K10+ÇİĞLİ!K10+DİKİLİ!K10+FOÇA!K10+GAZİEMİR!K10+GÜZELBAHÇE!K10+KARABAĞLAR!K10+KARABURUN!K10+KARŞIYAKA!K10+KEMALPAŞA!K10+KINIK!K10+KİRAZ!K10+KONAK!K10+MENDERES!K10+MENEMEN!K10+NARLIDERE!K10+ÖDEMİŞ!K10+SEFERİHİSAR!K10+SELÇUK!K10+TİRE!K10+TORBALI!K10+URLA!K10+İHSM!K10) -> 0
A11: 6 | B11: ASTIM Günü | H11: =SUM(ALİAĞA!H11+BALÇOVA!H11+BAYINDIR!H11+BAYRAKLI!H11+BERGAMA!H11+BEYDAĞ!H11+BORNOVA!H11+BUCA!H11+ÇEŞME!H11+ÇİĞLİ!H11+DİKİLİ!H11+FOÇA!H11+GAZİEMİR!H11+GÜZELBAHÇE!H11+KARABAĞLAR!H11+KARABURUN!H11+KARŞIYAKA!H11+KEMALPAŞA!H11+KINIK!H11+KİRAZ!H11+KONAK!H11+MENDERES!H11+MENEMEN!H11+NARLIDERE!H11+ÖDEMİŞ!H11+SEFERİHİSAR!H11+SELÇUK!H11+TİRE!H11+TORBALI!H11+URLA!H11+İHSM!H11) -> 0 | I11: =SUM(ALİAĞA!I11+BALÇOVA!I11+BAYINDIR!I11+BAYRAKLI!I11+BERGAMA!I11+BEYDAĞ!I11+BORNOVA!I11+BUCA!I11+ÇEŞME!I11+ÇİĞLİ!I11+DİKİLİ!I11+FOÇA!I11+GAZİEMİR!I11+GÜZELBAHÇE!I11+KARABAĞLAR!I11+KARABURUN!I11+KARŞIYAKA!I11+KEMALPAŞA!I11+KINIK!I11+KİRAZ!I11+KONAK!I11+MENDERES!I11+MENEMEN!I11+NARLIDERE!I11+ÖDEMİŞ!I11+SEFERİHİSAR!I11+SELÇUK!I11+TİRE!I11+TORBALI!I11+URLA!I11+İHSM!I11) -> 0 | J11: =SUM(ALİAĞA!J11+BALÇOVA!J11+BAYINDIR!J11+BAYRAKLI!J11+BERGAMA!J11+BEYDAĞ!J11+BORNOVA!J11+BUCA!J11+ÇEŞME!J11+ÇİĞLİ!J11+DİKİLİ!J11+FOÇA!J11+GAZİEMİR!J11+GÜZELBAHÇE!J11+KARABAĞLAR!J11+KARABURUN!J11+KARŞIYAKA!J11+KEMALPAŞA!J11+KINIK!J11+KİRAZ!J11+KONAK!J11+MENDERES!J11+MENEMEN!J11+NARLIDERE!J11+ÖDEMİŞ!J11+SEFERİHİSAR!J11+SELÇUK!J11+TİRE!J11+TORBALI!J11+URLA!J11+İHSM!J11) -> 0 | K11: =SUM(ALİAĞA!K11+BALÇOVA!K11+BAYINDIR!K11+BAYRAKLI!K11+BERGAMA!K11+BEYDAĞ!K11+BORNOVA!K11+BUCA!K11+ÇEŞME!K11+ÇİĞLİ!K11+DİKİLİ!K11+FOÇA!K11+GAZİEMİR!K11+GÜZELBAHÇE!K11+KARABAĞLAR!K11+KARABURUN!K11+KARŞIYAKA!K11+KEMALPAŞA!K11+KINIK!K11+KİRAZ!K11+KONAK!K11+MENDERES!K11+MENEMEN!K11+NARLIDERE!K11+ÖDEMİŞ!K11+SEFERİHİSAR!K11+SELÇUK!K11+TİRE!K11+TORBALI!K11+URLA!K11+İHSM!K11) -> 0
A12: 7 | B12: Pulmoner Rehabilitasyon Haftası | H12: =SUM(ALİAĞA!H12+BALÇOVA!H12+BAYINDIR!H12+BAYRAKLI!H12+BERGAMA!H12+BEYDAĞ!H12+BORNOVA!H12+BUCA!H12+ÇEŞME!H12+ÇİĞLİ!H12+DİKİLİ!H12+FOÇA!H12+GAZİEMİR!H12+GÜZELBAHÇE!H12+KARABAĞLAR!H12+KARABURUN!H12+KARŞIYAKA!H12+KEMALPAŞA!H12+KINIK!H12+KİRAZ!H12+KONAK!H12+MENDERES!H12+MENEMEN!H12+NARLIDERE!H12+ÖDEMİŞ!H12+SEFERİHİSAR!H12+SELÇUK!H12+TİRE!H12+TORBALI!H12+URLA!H12+İHSM!H12) -> 0 | I12: =SUM(ALİAĞA!I12+BALÇOVA!I12+BAYINDIR!I12+BAYRAKLI!I12+BERGAMA!I12+BEYDAĞ!I12+BORNOVA!I12+BUCA!I12+ÇEŞME!I12+ÇİĞLİ!I12+DİKİLİ!I12+FOÇA!I12+GAZİEMİR!I12+GÜZELBAHÇE!I12+KARABAĞLAR!I12+KARABURUN!I12+KARŞIYAKA!I12+KEMALPAŞA!I12+KINIK!I12+KİRAZ!I12+KONAK!I12+MENDERES!I12+MENEMEN!I12+NARLIDERE!I12+ÖDEMİŞ!I12+SEFERİHİSAR!I12+SELÇUK!I12+TİRE!I12+TORBALI!I12+URLA!I12+İHSM!I12) -> 0 | J12: =SUM(ALİAĞA!J12+BALÇOVA!J12+BAYINDIR!J12+BAYRAKLI!J12+BERGAMA!J12+BEYDAĞ!J12+BORNOVA!J12+BUCA!J12+ÇEŞME!J12+ÇİĞLİ!J12+DİKİLİ!J12+FOÇA!J12+GAZİEMİR!J12+GÜZELBAHÇE!J12+KARABAĞLAR!J12+KARABURUN!J12+KARŞIYAKA!J12+KEMALPAŞA!J12+KINIK!J12+KİRAZ!J12+KONAK!J12+MENDERES!J12+MENEMEN!J12+NARLIDERE!J12+ÖDEMİŞ!J12+SEFERİHİSAR!J12+SELÇUK!J12+TİRE!J12+TORBALI!J12+URLA!J12+İHSM!J12) -> 0 | K12: =SUM(ALİAĞA!K12+BALÇOVA!K12+BAYINDIR!K12+BAYRAKLI!K12+BERGAMA!K12+BEYDAĞ!K12+BORNOVA!K12+BUCA!K12+ÇEŞME!K12+ÇİĞLİ!K12+DİKİLİ!K12+FOÇA!K12+GAZİEMİR!K12+GÜZELBAHÇE!K12+KARABAĞLAR!K12+KARABURUN!K12+KARŞIYAKA!K12+KEMALPAŞA!K12+KINIK!K12+KİRAZ!K12+KONAK!K12+MENDERES!K12+MENEMEN!K12+NARLIDERE!K12+ÖDEMİŞ!K12+SEFERİHİSAR!K12+SELÇUK!K12+TİRE!K12+TORBALI!K12+URLA!K12+İHSM!K12) -> 0
A13: 8 | B13: Engelliler Günü/Haftası | H13: =SUM(ALİAĞA!H13+BALÇOVA!H13+BAYINDIR!H13+BAYRAKLI!H13+BERGAMA!H13+BEYDAĞ!H13+BORNOVA!H13+BUCA!H13+ÇEŞME!H13+ÇİĞLİ!H13+DİKİLİ!H13+FOÇA!H13+GAZİEMİR!H13+GÜZELBAHÇE!H13+KARABAĞLAR!H13+KARABURUN!H13+KARŞIYAKA!H13+KEMALPAŞA!H13+KINIK!H13+KİRAZ!H13+KONAK!H13+MENDERES!H13+MENEMEN!H13+NARLIDERE!H13+ÖDEMİŞ!H13+SEFERİHİSAR!H13+SELÇUK!H13+TİRE!H13+TORBALI!H13+URLA!H13+İHSM!H13) -> 0 | I13: =SUM(ALİAĞA!I13+BALÇOVA!I13+BAYINDIR!I13+BAYRAKLI!I13+BERGAMA!I13+BEYDAĞ!I13+BORNOVA!I13+BUCA!I13+ÇEŞME!I13+ÇİĞLİ!I13+DİKİLİ!I13+FOÇA!I13+GAZİEMİR!I13+GÜZELBAHÇE!I13+KARABAĞLAR!I13+KARABURUN!I13+KARŞIYAKA!I13+KEMALPAŞA!I13+KINIK!I13+KİRAZ!I13+KONAK!I13+MENDERES!I13+MENEMEN!I13+NARLIDERE!I13+ÖDEMİŞ!I13+SEFERİHİSAR!I13+SELÇUK!I13+TİRE!I13+TORBALI!I13+URLA!I13+İHSM!I13) -> 0 | J13: =SUM(ALİAĞA!J13+BALÇOVA!J13+BAYINDIR!J13+BAYRAKLI!J13+BERGAMA!J13+BEYDAĞ!J13+BORNOVA!J13+BUCA!J13+ÇEŞME!J13+ÇİĞLİ!J13+DİKİLİ!J13+FOÇA!J13+GAZİEMİR!J13+GÜZELBAHÇE!J13+KARABAĞLAR!J13+KARABURUN!J13+KARŞIYAKA!J13+KEMALPAŞA!J13+KINIK!J13+KİRAZ!J13+KONAK!J13+MENDERES!J13+MENEMEN!J13+NARLIDERE!J13+ÖDEMİŞ!J13+SEFERİHİSAR!J13+SELÇUK!J13+TİRE!J13+TORBALI!J13+URLA!J13+İHSM!J13) -> 0 | K13: =SUM(ALİAĞA!K13+BALÇOVA!K13+BAYINDIR!K13+BAYRAKLI!K13+BERGAMA!K13+BEYDAĞ!K13+BORNOVA!K13+BUCA!K13+ÇEŞME!K13+ÇİĞLİ!K13+DİKİLİ!K13+FOÇA!K13+GAZİEMİR!K13+GÜZELBAHÇE!K13+KARABAĞLAR!K13+KARABURUN!K13+KARŞIYAKA!K13+KEMALPAŞA!K13+KINIK!K13+KİRAZ!K13+KONAK!K13+MENDERES!K13+MENEMEN!K13+NARLIDERE!K13+ÖDEMİŞ!K13+SEFERİHİSAR!K13+SELÇUK!K13+TİRE!K13+TORBALI!K13+URLA!K13+İHSM!K13) -> 0
A14: 9 | B14: Böbrek Günü/ Tuz Tüketiminin Azaltılması | H14: =SUM(ALİAĞA!H14+BALÇOVA!H14+BAYINDIR!H14+BAYRAKLI!H14+BERGAMA!H14+BEYDAĞ!H14+BORNOVA!H14+BUCA!H14+ÇEŞME!H14+ÇİĞLİ!H14+DİKİLİ!H14+FOÇA!H14+GAZİEMİR!H14+GÜZELBAHÇE!H14+KARABAĞLAR!H14+KARABURUN!H14+KARŞIYAKA!H14+KEMALPAŞA!H14+KINIK!H14+KİRAZ!H14+KONAK!H14+MENDERES!H14+MENEMEN!H14+NARLIDERE!H14+ÖDEMİŞ!H14+SEFERİHİSAR!H14+SELÇUK!H14+TİRE!H14+TORBALI!H14+URLA!H14+İHSM!H14) -> 0 | I14: =SUM(ALİAĞA!I14+BALÇOVA!I14+BAYINDIR!I14+BAYRAKLI!I14+BERGAMA!I14+BEYDAĞ!I14+BORNOVA!I14+BUCA!I14+ÇEŞME!I14+ÇİĞLİ!I14+DİKİLİ!I14+FOÇA!I14+GAZİEMİR!I14+GÜZELBAHÇE!I14+KARABAĞLAR!I14+KARABURUN!I14+KARŞIYAKA!I14+KEMALPAŞA!I14+KINIK!I14+KİRAZ!I14+KONAK!I14+MENDERES!I14+MENEMEN!I14+NARLIDERE!I14+ÖDEMİŞ!I14+SEFERİHİSAR!I14+SELÇUK!I14+TİRE!I14+TORBALI!I14+URLA!I14+İHSM!I14) -> 0 | J14: =SUM(ALİAĞA!J14+BALÇOVA!J14+BAYINDIR!J14+BAYRAKLI!J14+BERGAMA!J14+BEYDAĞ!J14+BORNOVA!J14+BUCA!J14+ÇEŞME!J14+ÇİĞLİ!J14+DİKİLİ!J14+FOÇA!J14+GAZİEMİR!J14+GÜZELBAHÇE!J14+KARABAĞLAR!J14+KARABURUN!J14+KARŞIYAKA!J14+KEMALPAŞA!J14+KINIK!J14+KİRAZ!J14+KONAK!J14+MENDERES!J14+MENEMEN!J14+NARLIDERE!J14+ÖDEMİŞ!J14+SEFERİHİSAR!J14+SELÇUK!J14+TİRE!J14+TORBALI!J14+URLA!J14+İHSM!J14) -> 0 | K14: =SUM(ALİAĞA!K14+BALÇOVA!K14+BAYINDIR!K14+BAYRAKLI!K14+BERGAMA!K14+BEYDAĞ!K14+BORNOVA!K14+BUCA!K14+ÇEŞME!K14+ÇİĞLİ!K14+DİKİLİ!K14+FOÇA!K14+GAZİEMİR!K14+GÜZELBAHÇE!K14+KARABAĞLAR!K14+KARABURUN!K14+KARŞIYAKA!K14+KEMALPAŞA!K14+KINIK!K14+KİRAZ!K14+KONAK!K14+MENDERES!K14+MENEMEN!K14+NARLIDERE!K14+ÖDEMİŞ!K14+SEFERİHİSAR!K14+SELÇUK!K14+TİRE!K14+TORBALI!K14+URLA!K14+İHSM!K14) -> 0
A15: 10 | B15: Hipertansiyon Günü | H15: =SUM(ALİAĞA!H15+BALÇOVA!H15+BAYINDIR!H15+BAYRAKLI!H15+BERGAMA!H15+BEYDAĞ!H15+BORNOVA!H15+BUCA!H15+ÇEŞME!H15+ÇİĞLİ!H15+DİKİLİ!H15+FOÇA!H15+GAZİEMİR!H15+GÜZELBAHÇE!H15+KARABAĞLAR!H15+KARABURUN!H15+KARŞIYAKA!H15+KEMALPAŞA!H15+KINIK!H15+KİRAZ!H15+KONAK!H15+MENDERES!H15+MENEMEN!H15+NARLIDERE!H15+ÖDEMİŞ!H15+SEFERİHİSAR!H15+SELÇUK!H15+TİRE!H15+TORBALI!H15+URLA!H15+İHSM!H15) -> 0 | I15: =SUM(ALİAĞA!I15+BALÇOVA!I15+BAYINDIR!I15+BAYRAKLI!I15+BERGAMA!I15+BEYDAĞ!I15+BORNOVA!I15+BUCA!I15+ÇEŞME!I15+ÇİĞLİ!I15+DİKİLİ!I15+FOÇA!I15+GAZİEMİR!I15+GÜZELBAHÇE!I15+KARABAĞLAR!I15+KARABURUN!I15+KARŞIYAKA!I15+KEMALPAŞA!I15+KINIK!I15+KİRAZ!I15+KONAK!I15+MENDERES!I15+MENEMEN!I15+NARLIDERE!I15+ÖDEMİŞ!I15+SEFERİHİSAR!I15+SELÇUK!I15+TİRE!I15+TORBALI!I15+URLA!I15+İHSM!I15) -> 0 | J15: =SUM(ALİAĞA!J15+BALÇOVA!J15+BAYINDIR!J15+BAYRAKLI!J15+BERGAMA!J15+BEYDAĞ!J15+BORNOVA!J15+BUCA!J15+ÇEŞME!J15+ÇİĞLİ!J15+DİKİLİ!J15+FOÇA!J15+GAZİEMİR!J15+GÜZELBAHÇE!J15+KARABAĞLAR!J15+KARABURUN!J15+KARŞIYAKA!J15+KEMALPAŞA!J15+KINIK!J15+KİRAZ!J15+KONAK!J15+MENDERES!J15+MENEMEN!J15+NARLIDERE!J15+ÖDEMİŞ!J15+SEFERİHİSAR!J15+SELÇUK!J15+TİRE!J15+TORBALI!J15+URLA!J15+İHSM!J15) -> 0 | K15: =SUM(ALİAĞA!K15+BALÇOVA!K15+BAYINDIR!K15+BAYRAKLI!K15+BERGAMA!K15+BEYDAĞ!K15+BORNOVA!K15+BUCA!K15+ÇEŞME!K15+ÇİĞLİ!K15+DİKİLİ!K15+FOÇA!K15+GAZİEMİR!K15+GÜZELBAHÇE!K15+KARABAĞLAR!K15+KARABURUN!K15+KARŞIYAKA!K15+KEMALPAŞA!K15+KINIK!K15+KİRAZ!K15+KONAK!K15+MENDERES!K15+MENEMEN!K15+NARLIDERE!K15+ÖDEMİŞ!K15+SEFERİHİSAR!K15+SELÇUK!K15+TİRE!K15+TORBALI!K15+URLA!K15+İHSM!K15) -> 0
A16: 11 | B16: Obezite Günü | H16: =SUM(ALİAĞA!H16+BALÇOVA!H16+BAYINDIR!H16+BAYRAKLI!H16+BERGAMA!H16+BEYDAĞ!H16+BORNOVA!H16+BUCA!H16+ÇEŞME!H16+ÇİĞLİ!H16+DİKİLİ!H16+FOÇA!H16+GAZİEMİR!H16+GÜZELBAHÇE!H16+KARABAĞLAR!H16+KARABURUN!H16+KARŞIYAKA!H16+KEMALPAŞA!H16+KINIK!H16+KİRAZ!H16+KONAK!H16+MENDERES!H16+MENEMEN!H16+NARLIDERE!H16+ÖDEMİŞ!H16+SEFERİHİSAR!H16+SELÇUK!H16+TİRE!H16+TORBALI!H16+URLA!H16+İHSM!H16) -> 0 | I16: =SUM(ALİAĞA!I16+BALÇOVA!I16+BAYINDIR!I16+BAYRAKLI!I16+BERGAMA!I16+BEYDAĞ!I16+BORNOVA!I16+BUCA!I16+ÇEŞME!I16+ÇİĞLİ!I16+DİKİLİ!I16+FOÇA!I16+GAZİEMİR!I16+GÜZELBAHÇE!I16+KARABAĞLAR!I16+KARABURUN!I16+KARŞIYAKA!I16+KEMALPAŞA!I16+KINIK!I16+KİRAZ!I16+KONAK!I16+MENDERES!I16+MENEMEN!I16+NARLIDERE!I16+ÖDEMİŞ!I16+SEFERİHİSAR!I16+SELÇUK!I16+TİRE!I16+TORBALI!I16+URLA!I16+İHSM!I16) -> 0 | J16: =SUM(ALİAĞA!J16+BALÇOVA!J16+BAYINDIR!J16+BAYRAKLI!J16+BERGAMA!J16+BEYDAĞ!J16+BORNOVA!J16+BUCA!J16+ÇEŞME!J16+ÇİĞLİ!J16+DİKİLİ!J16+FOÇA!J16+GAZİEMİR!J16+GÜZELBAHÇE!J16+KARABAĞLAR!J16+KARABURUN!J16+KARŞIYAKA!J16+KEMALPAŞA!J16+KINIK!J16+KİRAZ!J16+KONAK!J16+MENDERES!J16+MENEMEN!J16+NARLIDERE!J16+ÖDEMİŞ!J16+SEFERİHİSAR!J16+SELÇUK!J16+TİRE!J16+TORBALI!J16+URLA!J16+İHSM!J16) -> 0 | K16: =SUM(ALİAĞA!K16+BALÇOVA!K16+BAYINDIR!K16+BAYRAKLI!K16+BERGAMA!K16+BEYDAĞ!K16+BORNOVA!K16+BUCA!K16+ÇEŞME!K16+ÇİĞLİ!K16+DİKİLİ!K16+FOÇA!K16+GAZİEMİR!K16+GÜZELBAHÇE!K16+KARABAĞLAR!K16+KARABURUN!K16+KARŞIYAKA!K16+KEMALPAŞA!K16+KINIK!K16+KİRAZ!K16+KONAK!K16+MENDERES!K16+MENEMEN!K16+NARLIDERE!K16+ÖDEMİŞ!K16+SEFERİHİSAR!K16+SELÇUK!K16+TİRE!K16+TORBALI!K16+URLA!K16+İHSM!K16) -> 0
A17: 12 | B17: Sağlık İçin Hareket Et Günü | H17: =SUM(ALİAĞA!H17+BALÇOVA!H17+BAYINDIR!H17+BAYRAKLI!H17+BERGAMA!H17+BEYDAĞ!H17+BORNOVA!H17+BUCA!H17+ÇEŞME!H17+ÇİĞLİ!H17+DİKİLİ!H17+FOÇA!H17+GAZİEMİR!H17+GÜZELBAHÇE!H17+KARABAĞLAR!H17+KARABURUN!H17+KARŞIYAKA!H17+KEMALPAŞA!H17+KINIK!H17+KİRAZ!H17+KONAK!H17+MENDERES!H17+MENEMEN!H17+NARLIDERE!H17+ÖDEMİŞ!H17+SEFERİHİSAR!H17+SELÇUK!H17+TİRE!H17+TORBALI!H17+URLA!H17+İHSM!H17) -> 0 | I17: =SUM(ALİAĞA!I17+BALÇOVA!I17+BAYINDIR!I17+BAYRAKLI!I17+BERGAMA!I17+BEYDAĞ!I17+BORNOVA!I17+BUCA!I17+ÇEŞME!I17+ÇİĞLİ!I17+DİKİLİ!I17+FOÇA!I17+GAZİEMİR!I17+GÜZELBAHÇE!I17+KARABAĞLAR!I17+KARABURUN!I17+KARŞIYAKA!I17+KEMALPAŞA!I17+KINIK!I17+KİRAZ!I17+KONAK!I17+MENDERES!I17+MENEMEN!I17+NARLIDERE!I17+ÖDEMİŞ!I17+SEFERİHİSAR!I17+SELÇUK!I17+TİRE!I17+TORBALI!I17+URLA!I17+İHSM!I17) -> 0 | J17: =SUM(ALİAĞA!J17+BALÇOVA!J17+BAYINDIR!J17+BAYRAKLI!J17+BERGAMA!J17+BEYDAĞ!J17+BORNOVA!J17+BUCA!J17+ÇEŞME!J17+ÇİĞLİ!J17+DİKİLİ!J17+FOÇA!J17+GAZİEMİR!J17+GÜZELBAHÇE!J17+KARABAĞLAR!J17+KARABURUN!J17+KARŞIYAKA!J17+KEMALPAŞA!J17+KINIK!J17+KİRAZ!J17+KONAK!J17+MENDERES!J17+MENEMEN!J17+NARLIDERE!J17+ÖDEMİŞ!J17+SEFERİHİSAR!J17+SELÇUK!J17+TİRE!J17+TORBALI!J17+URLA!J17+İHSM!J17) -> 0 | K17: =SUM(ALİAĞA!K17+BALÇOVA!K17+BAYINDIR!K17+BAYRAKLI!K17+BERGAMA!K17+BEYDAĞ!K17+BORNOVA!K17+BUCA!K17+ÇEŞME!K17+ÇİĞLİ!K17+DİKİLİ!K17+FOÇA!K17+GAZİEMİR!K17+GÜZELBAHÇE!K17+KARABAĞLAR!K17+KARABURUN!K17+KARŞIYAKA!K17+KEMALPAŞA!K17+KINIK!K17+KİRAZ!K17+KONAK!K17+MENDERES!K17+MENEMEN!K17+NARLIDERE!K17+ÖDEMİŞ!K17+SEFERİHİSAR!K17+SELÇUK!K17+TİRE!K17+TORBALI!K17+URLA!K17+İHSM!K17) -> 0
... A26: 21 | B26: Diğer (Etkinlik Adı açık olarak yazılacaktır) | H26: =SUM(ALİAĞA!H26+BALÇOVA!H26+BAYINDIR!H26+BAYRAKLI!H26+BERGAMA!H26+BEYDAĞ!H26+BORNOVA!H26+BUCA!H26+ÇEŞME!H26+ÇİĞLİ!H26+DİKİLİ!H26+FOÇA!H26+GAZİEMİR!H26+GÜZELBAHÇE!H26+KARABAĞLAR!H26+KARABURUN!H26+KARŞIYAKA!H26+KEMALPAŞA!H26+KINIK!H26+KİRAZ!H26+KONAK!H26+MENDERES!H26+MENEMEN!H26+NARLIDERE!H26+ÖDEMİŞ!H26+SEFERİHİSAR!H26+SELÇUK!H26+TİRE!H26+TORBALI!H26+URLA!H26+İHSM!H26) -> 0 | I26: =SUM(ALİAĞA!I26+BALÇOVA!I26+BAYINDIR!I26+BAYRAKLI!I26+BERGAMA!I26+BEYDAĞ!I26+BORNOVA!I26+BUCA!I26+ÇEŞME!I26+ÇİĞLİ!I26+DİKİLİ!I26+FOÇA!I26+GAZİEMİR!I26+GÜZELBAHÇE!I26+KARABAĞLAR!I26+KARABURUN!I26+KARŞIYAKA!I26+KEMALPAŞA!I26+KINIK!I26+KİRAZ!I26+KONAK!I26+MENDERES!I26+MENEMEN!I26+NARLIDERE!I26+ÖDEMİŞ!I26+SEFERİHİSAR!I26+SELÇUK!I26+TİRE!I26+TORBALI!I26+URLA!I26+İHSM!I26) -> 0 | J26: =SUM(ALİAĞA!J26+BALÇOVA!J26+BAYINDIR!J26+BAYRAKLI!J26+BERGAMA!J26+BEYDAĞ!J26+BORNOVA!J26+BUCA!J26+ÇEŞME!J26+ÇİĞLİ!J26+DİKİLİ!J26+FOÇA!J26+GAZİEMİR!J26+GÜZELBAHÇE!J26+KARABAĞLAR!J26+KARABURUN!J26+KARŞIYAKA!J26+KEMALPAŞA!J26+KINIK!J26+KİRAZ!J26+KONAK!J26+MENDERES!J26+MENEMEN!J26+NARLIDERE!J26+ÖDEMİŞ!J26+SEFERİHİSAR!J26+SELÇUK!J26+TİRE!J26+TORBALI!J26+URLA!J26+İHSM!J26) -> 0 | K26: =SUM(ALİAĞA!K26+BALÇOVA!K26+BAYINDIR!K26+BAYRAKLI!K26+BERGAMA!K26+BEYDAĞ!K26+BORNOVA!K26+BUCA!K26+ÇEŞME!K26+ÇİĞLİ!K26+DİKİLİ!K26+FOÇA!K26+GAZİEMİR!K26+GÜZELBAHÇE!K26+KARABAĞLAR!K26+KARABURUN!K26+KARŞIYAKA!K26+KEMALPAŞA!K26+KINIK!K26+KİRAZ!K26+KONAK!K26+MENDERES!K26+MENEMEN!K26+NARLIDERE!K26+ÖDEMİŞ!K26+SEFERİHİSAR!K26+SELÇUK!K26+TİRE!K26+TORBALI!K26+URLA!K26+İHSM!K26) -> 0
A29: 1.GÜN | B29: Sağlıklı Yaşam Aracı Faaliyetleri | H29: =SUM(ALİAĞA!H29+BALÇOVA!H29+BAYINDIR!H29+BAYRAKLI!H29+BERGAMA!H29+BEYDAĞ!H29+BORNOVA!H29+BUCA!H29+ÇEŞME!H29+ÇİĞLİ!H29+DİKİLİ!H29+FOÇA!H29+GAZİEMİR!H29+GÜZELBAHÇE!H29+KARABAĞLAR!H29+KARABURUN!H29+KARŞIYAKA!H29+KEMALPAŞA!H29+KINIK!H29+KİRAZ!H29+KONAK!H29+MENDERES!H29+MENEMEN!H29+NARLIDERE!H29+ÖDEMİŞ!H29+SEFERİHİSAR!H29+SELÇUK!H29+TİRE!H29+TORBALI!H29+URLA!H29+İHSM!H29) -> 0 | I29: =SUM(ALİAĞA!I29+BALÇOVA!I29+BAYINDIR!I29+BAYRAKLI!I29+BERGAMA!I29+BEYDAĞ!I29+BORNOVA!I29+BUCA!I29+ÇEŞME!I29+ÇİĞLİ!I29+DİKİLİ!I29+FOÇA!I29+GAZİEMİR!I29+GÜZELBAHÇE!I29+KARABAĞLAR!I29+KARABURUN!I29+KARŞIYAKA!I29+KEMALPAŞA!I29+KINIK!I29+KİRAZ!I29+KONAK!I29+MENDERES!I29+MENEMEN!I29+NARLIDERE!I29+ÖDEMİŞ!I29+SEFERİHİSAR!I29+SELÇUK!I29+TİRE!I29+TORBALI!I29+URLA!I29+İHSM!I29) -> 0 | J29: =SUM(ALİAĞA!J29+BALÇOVA!J29+BAYINDIR!J29+BAYRAKLI!J29+BERGAMA!J29+BEYDAĞ!J29+BORNOVA!J29+BUCA!J29+ÇEŞME!J29+ÇİĞLİ!J29+DİKİLİ!J29+FOÇA!J29+GAZİEMİR!J29+GÜZELBAHÇE!J29+KARABAĞLAR!J29+KARABURUN!J29+KARŞIYAKA!J29+KEMALPAŞA!J29+KINIK!J29+KİRAZ!J29+KONAK!J29+MENDERES!J29+MENEMEN!J29+NARLIDERE!J29+ÖDEMİŞ!J29+SEFERİHİSAR!J29+SELÇUK!J29+TİRE!J29+TORBALI!J29+URLA!J29+İHSM!J29) -> 0 | K29: =SUM(ALİAĞA!K29+BALÇOVA!K29+BAYINDIR!K29+BAYRAKLI!K29+BERGAMA!K29+BEYDAĞ!K29+BORNOVA!K29+BUCA!K29+ÇEŞME!K29+ÇİĞLİ!K29+DİKİLİ!K29+FOÇA!K29+GAZİEMİR!K29+GÜZELBAHÇE!K29+KARABAĞLAR!K29+KARABURUN!K29+KARŞIYAKA!K29+KEMALPAŞA!K29+KINIK!K29+KİRAZ!K29+KONAK!K29+MENDERES!K29+MENEMEN!K29+NARLIDERE!K29+ÖDEMİŞ!K29+SEFERİHİSAR!K29+SELÇUK!K29+TİRE!K29+TORBALI!K29+URLA!K29+İHSM!K29) -> 0
A30: 2.GÜN | B30: Sağlıklı Yaşam Aracı Faaliyetleri | H30: =SUM(ALİAĞA!H30+BALÇOVA!H30+BAYINDIR!H30+BAYRAKLI!H30+BERGAMA!H30+BEYDAĞ!H30+BORNOVA!H30+BUCA!H30+ÇEŞME!H30+ÇİĞLİ!H30+DİKİLİ!H30+FOÇA!H30+GAZİEMİR!H30+GÜZELBAHÇE!H30+KARABAĞLAR!H30+KARABURUN!H30+KARŞIYAKA!H30+KEMALPAŞA!H30+KINIK!H30+KİRAZ!H30+KONAK!H30+MENDERES!H30+MENEMEN!H30+NARLIDERE!H30+ÖDEMİŞ!H30+SEFERİHİSAR!H30+SELÇUK!H30+TİRE!H30+TORBALI!H30+URLA!H30+İHSM!H30) -> 0 | I30: =SUM(ALİAĞA!I30+BALÇOVA!I30+BAYINDIR!I30+BAYRAKLI!I30+BERGAMA!I30+BEYDAĞ!I30+BORNOVA!I30+BUCA!I30+ÇEŞME!I30+ÇİĞLİ!I30+DİKİLİ!I30+FOÇA!I30+GAZİEMİR!I30+GÜZELBAHÇE!I30+KARABAĞLAR!I30+KARABURUN!I30+KARŞIYAKA!I30+KEMALPAŞA!I30+KINIK!I30+KİRAZ!I30+KONAK!I30+MENDERES!I30+MENEMEN!I30+NARLIDERE!I30+ÖDEMİŞ!I30+SEFERİHİSAR!I30+SELÇUK!I30+TİRE!I30+TORBALI!I30+URLA!I30+İHSM!I30) -> 0 | J30: =SUM(ALİAĞA!J30+BALÇOVA!J30+BAYINDIR!J30+BAYRAKLI!J30+BERGAMA!J30+BEYDAĞ!J30+BORNOVA!J30+BUCA!J30+ÇEŞME!J30+ÇİĞLİ!J30+DİKİLİ!J30+FOÇA!J30+GAZİEMİR!J30+GÜZELBAHÇE!J30+KARABAĞLAR!J30+KARABURUN!J30+KARŞIYAKA!J30+KEMALPAŞA!J30+KINIK!J30+KİRAZ!J30+KONAK!J30+MENDERES!J30+MENEMEN!J30+NARLIDERE!J30+ÖDEMİŞ!J30+SEFERİHİSAR!J30+SELÇUK!J30+TİRE!J30+TORBALI!J30+URLA!J30+İHSM!J30) -> 0 | K30: =SUM(ALİAĞA!K30+BALÇOVA!K30+BAYINDIR!K30+BAYRAKLI!K30+BERGAMA!K30+BEYDAĞ!K30+BORNOVA!K30+BUCA!K30+ÇEŞME!K30+ÇİĞLİ!K30+DİKİLİ!K30+FOÇA!K30+GAZİEMİR!K30+GÜZELBAHÇE!K30+KARABAĞLAR!K30+KARABURUN!K30+KARŞIYAKA!K30+KEMALPAŞA!K30+KINIK!K30+KİRAZ!K30+KONAK!K30+MENDERES!K30+MENEMEN!K30+NARLIDERE!K30+ÖDEMİŞ!K30+SEFERİHİSAR!K30+SELÇUK!K30+TİRE!K30+TORBALI!K30+URLA!K30+İHSM!K30) -> 0
A31: 3.GÜN | B31: Sağlıklı Yaşam Aracı Faaliyetleri | H31: =SUM(ALİAĞA!H31+BALÇOVA!H31+BAYINDIR!H31+BAYRAKLI!H31+BERGAMA!H31+BEYDAĞ!H31+BORNOVA!H31+BUCA!H31+ÇEŞME!H31+ÇİĞLİ!H31+DİKİLİ!H31+FOÇA!H31+GAZİEMİR!H31+GÜZELBAHÇE!H31+KARABAĞLAR!H31+KARABURUN!H31+KARŞIYAKA!H31+KEMALPAŞA!H31+KINIK!H31+KİRAZ!H31+KONAK!H31+MENDERES!H31+MENEMEN!H31+NARLIDERE!H31+ÖDEMİŞ!H31+SEFERİHİSAR!H31+SELÇUK!H31+TİRE!H31+TORBALI!H31+URLA!H31+İHSM!H31) -> 0 | I31: =SUM(ALİAĞA!I31+BALÇOVA!I31+BAYINDIR!I31+BAYRAKLI!I31+BERGAMA!I31+BEYDAĞ!I31+BORNOVA!I31+BUCA!I31+ÇEŞME!I31+ÇİĞLİ!I31+DİKİLİ!I31+FOÇA!I31+GAZİEMİR!I31+GÜZELBAHÇE!I31+KARABAĞLAR!I31+KARABURUN!I31+KARŞIYAKA!I31+KEMALPAŞA!I31+KINIK!I31+KİRAZ!I31+KONAK!I31+MENDERES!I31+MENEMEN!I31+NARLIDERE!I31+ÖDEMİŞ!I31+SEFERİHİSAR!I31+SELÇUK!I31+TİRE!I31+TORBALI!I31+URLA!I31+İHSM!I31) -> 0 | J31: =SUM(ALİAĞA!J31+BALÇOVA!J31+BAYINDIR!J31+BAYRAKLI!J31+BERGAMA!J31+BEYDAĞ!J31+BORNOVA!J31+BUCA!J31+ÇEŞME!J31+ÇİĞLİ!J31+DİKİLİ!J31+FOÇA!J31+GAZİEMİR!J31+GÜZELBAHÇE!J31+KARABAĞLAR!J31+KARABURUN!J31+KARŞIYAKA!J31+KEMALPAŞA!J31+KINIK!J31+KİRAZ!J31+KONAK!J31+MENDERES!J31+MENEMEN!J31+NARLIDERE!J31+ÖDEMİŞ!J31+SEFERİHİSAR!J31+SELÇUK!J31+TİRE!J31+TORBALI!J31+URLA!J31+İHSM!J31) -> 0 | K31: =SUM(ALİAĞA!K31+BALÇOVA!K31+BAYINDIR!K31+BAYRAKLI!K31+BERGAMA!K31+BEYDAĞ!K31+BORNOVA!K31+BUCA!K31+ÇEŞME!K31+ÇİĞLİ!K31+DİKİLİ!K31+FOÇA!K31+GAZİEMİR!K31+GÜZELBAHÇE!K31+KARABAĞLAR!K31+KARABURUN!K31+KARŞIYAKA!K31+KEMALPAŞA!K31+KINIK!K31+KİRAZ!K31+KONAK!K31+MENDERES!K31+MENEMEN!K31+NARLIDERE!K31+ÖDEMİŞ!K31+SEFERİHİSAR!K31+SELÇUK!K31+TİRE!K31+TORBALI!K31+URLA!K31+İHSM!K31) -> 0
A32: 4.GÜN | B32: Sağlıklı Yaşam Aracı Faaliyetleri | H32: =SUM(ALİAĞA!H32+BALÇOVA!H32+BAYINDIR!H32+BAYRAKLI!H32+BERGAMA!H32+BEYDAĞ!H32+BORNOVA!H32+BUCA!H32+ÇEŞME!H32+ÇİĞLİ!H32+DİKİLİ!H32+FOÇA!H32+GAZİEMİR!H32+GÜZELBAHÇE!H32+KARABAĞLAR!H32+KARABURUN!H32+KARŞIYAKA!H32+KEMALPAŞA!H32+KINIK!H32+KİRAZ!H32+KONAK!H32+MENDERES!H32+MENEMEN!H32+NARLIDERE!H32+ÖDEMİŞ!H32+SEFERİHİSAR!H32+SELÇUK!H32+TİRE!H32+TORBALI!H32+URLA!H32+İHSM!H32) -> 0 | I32: =SUM(ALİAĞA!I32+BALÇOVA!I32+BAYINDIR!I32+BAYRAKLI!I32+BERGAMA!I32+BEYDAĞ!I32+BORNOVA!I32+BUCA!I32+ÇEŞME!I32+ÇİĞLİ!I32+DİKİLİ!I32+FOÇA!I32+GAZİEMİR!I32+GÜZELBAHÇE!I32+KARABAĞLAR!I32+KARABURUN!I32+KARŞIYAKA!I32+KEMALPAŞA!I32+KINIK!I32+KİRAZ!I32+KONAK!I32+MENDERES!I32+MENEMEN!I32+NARLIDERE!I32+ÖDEMİŞ!I32+SEFERİHİSAR!I32+SELÇUK!I32+TİRE!I32+TORBALI!I32+URLA!I32+İHSM!I32) -> 0 | J32: =SUM(ALİAĞA!J32+BALÇOVA!J32+BAYINDIR!J32+BAYRAKLI!J32+BERGAMA!J32+BEYDAĞ!J32+BORNOVA!J32+BUCA!J32+ÇEŞME!J32+ÇİĞLİ!J32+DİKİLİ!J32+FOÇA!J32+GAZİEMİR!J32+GÜZELBAHÇE!J32+KARABAĞLAR!J32+KARABURUN!J32+KARŞIYAKA!J32+KEMALPAŞA!J32+KINIK!J32+KİRAZ!J32+KONAK!J32+MENDERES!J32+MENEMEN!J32+NARLIDERE!J32+ÖDEMİŞ!J32+SEFERİHİSAR!J32+SELÇUK!J32+TİRE!J32+TORBALI!J32+URLA!J32+İHSM!J32) -> 0 | K32: =SUM(ALİAĞA!K32+BALÇOVA!K32+BAYINDIR!K32+BAYRAKLI!K32+BERGAMA!K32+BEYDAĞ!K32+BORNOVA!K32+BUCA!K32+ÇEŞME!K32+ÇİĞLİ!K32+DİKİLİ!K32+FOÇA!K32+GAZİEMİR!K32+GÜZELBAHÇE!K32+KARABAĞLAR!K32+KARABURUN!K32+KARŞIYAKA!K32+KEMALPAŞA!K32+KINIK!K32+KİRAZ!K32+KONAK!K32+MENDERES!K32+MENEMEN!K32+NARLIDERE!K32+ÖDEMİŞ!K32+SEFERİHİSAR!K32+SELÇUK!K32+TİRE!K32+TORBALI!K32+URLA!K32+İHSM!K32) -> 0
A33: 5.GÜN | B33: Sağlıklı Yaşam Aracı Faaliyetleri | H33: =SUM(ALİAĞA!H33+BALÇOVA!H33+BAYINDIR!H33+BAYRAKLI!H33+BERGAMA!H33+BEYDAĞ!H33+BORNOVA!H33+BUCA!H33+ÇEŞME!H33+ÇİĞLİ!H33+DİKİLİ!H33+FOÇA!H33+GAZİEMİR!H33+GÜZELBAHÇE!H33+KARABAĞLAR!H33+KARABURUN!H33+KARŞIYAKA!H33+KEMALPAŞA!H33+KINIK!H33+KİRAZ!H33+KONAK!H33+MENDERES!H33+MENEMEN!H33+NARLIDERE!H33+ÖDEMİŞ!H33+SEFERİHİSAR!H33+SELÇUK!H33+TİRE!H33+TORBALI!H33+URLA!H33+İHSM!H33) -> 0 | I33: =SUM(ALİAĞA!I33+BALÇOVA!I33+BAYINDIR!I33+BAYRAKLI!I33+BERGAMA!I33+BEYDAĞ!I33+BORNOVA!I33+BUCA!I33+ÇEŞME!I33+ÇİĞLİ!I33+DİKİLİ!I33+FOÇA!I33+GAZİEMİR!I33+GÜZELBAHÇE!I33+KARABAĞLAR!I33+KARABURUN!I33+KARŞIYAKA!I33+KEMALPAŞA!I33+KINIK!I33+KİRAZ!I33+KONAK!I33+MENDERES!I33+MENEMEN!I33+NARLIDERE!I33+ÖDEMİŞ!I33+SEFERİHİSAR!I33+SELÇUK!I33+TİRE!I33+TORBALI!I33+URLA!I33+İHSM!I33) -> 0 | J33: =SUM(ALİAĞA!J33+BALÇOVA!J33+BAYINDIR!J33+BAYRAKLI!J33+BERGAMA!J33+BEYDAĞ!J33+BORNOVA!J33+BUCA!J33+ÇEŞME!J33+ÇİĞLİ!J33+DİKİLİ!J33+FOÇA!J33+GAZİEMİR!J33+GÜZELBAHÇE!J33+KARABAĞLAR!J33+KARABURUN!J33+KARŞIYAKA!J33+KEMALPAŞA!J33+KINIK!J33+KİRAZ!J33+KONAK!J33+MENDERES!J33+MENEMEN!J33+NARLIDERE!J33+ÖDEMİŞ!J33+SEFERİHİSAR!J33+SELÇUK!J33+TİRE!J33+TORBALI!J33+URLA!J33+İHSM!J33) -> 0 | K33: =SUM(ALİAĞA!K33+BALÇOVA!K33+BAYINDIR!K33+BAYRAKLI!K33+BERGAMA!K33+BEYDAĞ!K33+BORNOVA!K33+BUCA!K33+ÇEŞME!K33+ÇİĞLİ!K33+DİKİLİ!K33+FOÇA!K33+GAZİEMİR!K33+GÜZELBAHÇE!K33+KARABAĞLAR!K33+KARABURUN!K33+KARŞIYAKA!K33+KEMALPAŞA!K33+KINIK!K33+KİRAZ!K33+KONAK!K33+MENDERES!K33+MENEMEN!K33+NARLIDERE!K33+ÖDEMİŞ!K33+SEFERİHİSAR!K33+SELÇUK!K33+TİRE!K33+TORBALI!K33+URLA!K33+İHSM!K33) -> 0
B35: Düzenleyen | G35: Onaylayan
B36: Adı Soyadı: | G36: Adı Soyadı:
B37: İmza: | G37: İmza:

Sheet Sayfa2
A2: SEÇİNİZ | D2: SEÇİNİZ | G2: SEÇİNİZ | J2: SEÇİNİZ
A3: PARK-MEYDAN | D3: SUNUM | G3: BOY KİLO ÖLÇÜMÜ | J3: KİTAP-KİTAPÇIK
A4: PAZAR YERİ | D4: STAND | G4: TANSİYON ÖLÇÜMÜ | J4: BROŞÜR
A5: AVM | D5: YÜRÜYÜŞ | G5: ŞEKER ÖLÇÜMÜ | J5: AFİŞ
A6: OKUL | D6: FİZİKSEL AKTİVİTE | G6: KARBONMONOKSİT ÖLÇÜMÜ | J6: PEDOMETRE
A7: HUZUR EVİ | D7: TARAMA | G7: DİĞER | J7: BİSİKLET
A8: KURAN KURSU | D8: DİĞER | J8: ŞAPKA
A9: TSM | J9: T-SHİRT
A10: SPOR SALONU | J10: ATLAMA İPİ
A11: DİĞER | J11: BKİ ÇARKI
J12: DİĞER
A14: SEÇİNİZ
A15: KADIN | G15: OCAK
A16: ERKEK | G16: ŞUBAT | I16: 2016
A17: KADIN+ERKEK | G17: MART | I17: 2017
A18: ÖĞRENCİ | G18: NISAN | I18: 2018
A19: ÖĞRETMEN | G19: MAYIS
A20: ÖĞRENCİ+ÖĞRETMEN | G20: HAZIRAN
A21: POLİS-ASKER | G21: TEMMUZ
A22: YAŞLI | G22: AĞUSTOS
A23: DİĞER | G23: EYLÜL
G24: EKIM
G25: KASIM
G26: ARALIK

Sheet ALİAĞA
A1: BULAŞICI OLMAYAN HASTALIKLAR VE PROGRAMLAR FAALİYET BİLDİRİM FORMU
A2: İLÇE:
A3: AY: | D3: YIL:
A4: SIRA NO | B4: ETKİNLİĞİN KONUSU | C4: ETKİNLİĞİN YERİ | D4: HEDEF KİTLE | E4: ETKİNLİĞİN TÜRÜ | F4: YAPILAN DİĞER ETKİNLİKLER | G4: DAĞITILAN MALZEMELER | H4: DAĞITILAN MALZEME SAYISI | I4: ULAŞILAN KİŞİ SAYISI | J4: GÖREV ALAN KİŞİ SAYISI | K4: SEANS SAYISI
B5: (LÜTFEN SIRALAMADA DEĞİŞİKLİK YAPMAYINIZ;SATIR VEYA SÜTUN SİLMEYİNİZ; LİSTEDE OLMAYAN ETKİNLİKLERİNİZİ DİĞER KISMINA YAZINIZ) | C5: (Lütfen aşağıdaki hücrelerin sağında beliren işarete tıklayarak seçiminizi yapınız) | D5: (Lütfen aşağıdaki hücrelerin sağında beliren işarete tıklayarak seçiminizi yapınız) | E5: (Lütfen aşağıdaki hücrelerin sağında beliren işarete tıklayarak seçiminizi yapınız) | F5: (Lütfen aşağıdaki hücrelerin sağında beliren işarete tıklayarak seçiminizi yapınız) | G5: (Lütfen aşağıdaki hücrelerin sağında beliren işarete tıklayarak seçiminizi yapınız) | H5: (TOPLAMI SADECE SAYI OLARAK YAZINIZ) | I5: (TOPLAMI SADECE SAYI OLARAK YAZINIZ) | J5: (TOPLAMI SADECE SAYI OLARAK YAZINIZ) | K5: (TOPLAMI SADECE SAYI OLARAK YAZINIZ)
A6: 1 | B6: Kalp Günü / Haftası
A7: 2 | B7: Yaşlılar Günü / Haftası
A8: 3 | B8: Osteoporoz Günü
A9: 4 | B9: Diyabet Günü / Haftası
A10: 5 | B10: KOAH Günü
A11: 6 | B11: ASTIM Günü
A12: 7 | B12: Pulmoner Rehabilitasyon Haftası
A13: 8 | B13: Engelliler Günü/Haftası
A14: 9 | B14: Böbrek Günü/ Tuz Tüketiminin Azaltılması
A15: 10 | B15: Hipertansiyon Günü
A16: 11 | B16: Obezite Günü
A17: 12 | B17: Sağlık İçin Hareket Et Günü
... A26: 21 | B26: Diğer (Etkinlik Adı açık olarak yazılacaktır)
A29: 1.GÜN | B29: Sağlıklı Yaşam Aracı Faaliyetleri
A30: 2.GÜN | B30: Sağlıklı Yaşam Aracı Faaliyetleri
A31: 3.GÜN | B31: Sağlıklı Yaşam Aracı Faaliyetleri
A32: 4.GÜN | B32: Sağlıklı Yaşam Aracı Faaliyetleri
A33: 5.GÜN | B33: Sağlıklı Yaşam Aracı Faaliyetleri
B35: Düzenleyen | G35: Onaylayan
B36: Adı Soyadı: | G36: Adı Soyadı:
B37: İmza: | G37: İmza:

Sheet BALÇOVA
A1: BULAŞICI OLMAYAN HASTALIKLAR VE PROGRAMLAR FAALİYET BİLDİRİM FORMU
A2: İLÇE:
A3: AY: | D3: YIL:
A4: SIRA NO | B4: ETKİNLİĞİN KONUSU | C4: ETKİNLİĞİN YERİ | D4: HEDEF KİTLE | E4: ETKİNLİĞİN TÜRÜ | F4: YAPILAN DİĞER ETKİNLİKLER | G4: DAĞITILAN MALZEMELER | H4: DAĞITILAN MALZEME SAYISI | I4: ULAŞILAN KİŞİ SAYISI | J4: GÖREV ALAN KİŞİ SAYISI | K4: SEANS SAYISI
B5: (LÜTFEN SIRALAMADA DEĞİŞİKLİK YAPMAYINIZ;SATIR VEYA SÜTUN SİLMEYİNİZ; LİSTEDE OLMAYAN ETKİNLİKLERİNİZİ DİĞER KISMINA YAZINIZ) | C5: (Lütfen aşağıdaki hücrelerin sağında beliren işarete tıklayarak seçiminizi yapınız) | D5: (Lütfen aşağıdaki hücrelerin sağında beliren işarete tıklayarak seçiminizi yapınız) | E5: (Lütfen aşağıdaki hücrelerin sağında beliren işarete tıklayarak seçiminizi yapınız) | F5: (Lütfen aşağıdaki hücrelerin sağında beliren işarete tıklayarak seçiminizi yapınız) | G5: (Lütfen aşağıdaki hücrelerin sağında beliren işarete tıklayarak seçiminizi yapınız) | H5: (TOPLAMI SADECE SAYI OLARAK YAZINIZ) | I5: (TOPLAMI SADECE SAYI OLARAK YAZINIZ) | J5: (TOPLAMI SADECE SAYI OLARAK YAZINIZ) | K5: (TOPLAMI SADECE SAYI OLARAK YAZINIZ)
A6: 1 | B6: Kalp Günü / Haftası
A7: 2 | B7: Yaşlılar Günü / Haftası
A8: 3 | B8: Osteoporoz Günü
A9: 4 | B9: Diyabet Günü / Haftası
A10: 5 | B10: KOAH Günü
A11: 6 | B11: ASTIM Günü
A12: 7 | B12: Pulmoner Rehabilitasyon Haftası
A13: 8 | B13: Engelliler Günü/Haftası
A14: 9 | B14: Böbrek Günü/ Tuz Tüketiminin Azaltılması
A15: 10 | B15: Hipertansiyon Günü
A16: 11 | B16: Obezite Günü
A17: 12 | B17: Sağlık İçin Hareket Et Günü
... A26: 21 | B26: Diğer (Etkinlik Adı açık olarak yazılacaktır)
A29: 1.GÜN | B29: Sağlıklı Yaşam Aracı Faaliyetleri
A30: 2.GÜN | B30: Sağlıklı Yaşam Aracı Faaliyetleri
A31: 3.GÜN | B31: Sağlıklı Yaşam Aracı Faaliyetleri
A32: 4.GÜN | B32: Sağlıklı Yaşam Aracı Faaliyetleri
A33: 5.GÜN | B33: Sağlıklı Yaşam Aracı Faaliyetleri
B35: Düzenleyen | G35: Onaylayan
B36: Adı Soyadı: | G36: Adı Soyadı:
B37: İmza: | G37: İmza:

Sheet BAYINDIR
A1: BULAŞICI OLMAYAN HASTALIKLAR VE PROGRAMLAR FAALİYET BİLDİRİM FORMU
A2: İLÇE:
A3: AY: | D3: YIL:
A4: SIRA NO | B4: ETKİNLİĞİN KONUSU | C4: ETKİNLİĞİN YERİ | D4: HEDEF KİTLE | E4: ETKİNLİĞİN TÜRÜ | F4: YAPILAN DİĞER ETKİNLİKLER | G4: DAĞITILAN MALZEMELER | H4: DAĞITILAN MALZEME SAYISI | I4: ULAŞILAN KİŞİ SAYISI | J4: GÖREV ALAN KİŞİ SAYISI | K4: SEANS SAYISI
B5: (LÜTFEN SIRALAMADA DEĞİŞİKLİK YAPMAYINIZ;SATIR VEYA SÜTUN SİLMEYİNİZ; LİSTEDE OLMAYAN ETKİNLİKLERİNİZİ DİĞER KISMINA YAZINIZ) | C5: (Lütfen aşağıdaki hücrelerin sağında beliren işarete tıklayarak seçiminizi yapınız) | D5: (Lütfen aşağıdaki hücrelerin sağında beliren işarete tıklayarak seçiminizi yapınız) | E5: (Lütfen aşağıdaki hücrelerin sağında beliren işarete tıklayarak seçiminizi yapınız) | F5: (Lütfen aşağıdaki hücrelerin sağında beliren işarete tıklayarak seçiminizi yapınız) | G5: (Lütfen aşağıdaki hücrelerin sağında beliren işarete tıklayarak seçiminizi yapınız) | H5: (TOPLAMI SADECE SAYI OLARAK YAZINIZ) | I5: (TOPLAMI SADECE SAYI OLARAK YAZINIZ) | J5: (TOPLAMI SADECE SAYI OLARAK YAZINIZ) | K5: (TOPLAMI SADECE SAYI OLARAK YAZINIZ)
A6: 1 | B6: Kalp Günü / Haftası
A7: 2 | B7: Yaşlılar Günü / Haftası
A8: 3 | B8: Osteoporoz Günü
A9: 4 | B9: Diyabet Günü / Haftası
A10: 5 | B10: KOAH Günü
A11: 6 | B11: ASTIM Günü
A12: 7 | B12: Pulmoner Rehabilitasyon Haftası
A13: 8 | B13: Engelliler Günü/Haftası
A14: 9 | B14: Böbrek Günü/ Tuz Tüketiminin Azaltılması
A15: 10 | B15: Hipertansiyon Günü
A16: 11 | B16: Obezite Günü
A17: 12 | B17: Sağlık İçin Hareket Et Günü
... A26: 21 | B26: Diğer (Etkinlik Adı açık olarak yazılacaktır)
A29: 1.GÜN | B29: Sağlıklı Yaşam Aracı Faaliyetleri
A30: 2.GÜN | B30: Sağlıklı Yaşam Aracı Faaliyetleri
A31: 3.GÜN | B31: Sağlıklı Yaşam Aracı Faaliyetleri
A32: 4.GÜN | B32: Sağlıklı Yaşam Aracı Faaliyetleri
A33: 5.GÜN | B33: Sağlıklı Yaşam Aracı Faaliyetleri
B35: Düzenleyen | G35: Onaylayan
B36: Adı Soyadı: | G36: Adı Soyadı:
B37: İmza: | G37: İmza:

Sheet BAYRAKLI
A1: BULAŞICI OLMAYAN HASTALIKLAR VE PROGRAMLAR FAALİYET BİLDİRİM FORMU
A2: İLÇE:
A3: AY: | D3: YIL:
A4: SIRA NO | B4: ETKİNLİĞİN KONUSU | C4: ETKİNLİĞİN YERİ | D4: HEDEF KİTLE | E4: ETKİNLİĞİN TÜRÜ | F4: YAPILAN DİĞER ETKİNLİKLER | G4: DAĞITILAN MALZEMELER | H4: DAĞITILAN MALZEME SAYISI | I4: ULAŞILAN KİŞİ SAYISI | J4: GÖREV ALAN KİŞİ SAYISI | K4: SEANS SAYISI
B5: (LÜTFEN SIRALAMADA DEĞİŞİKLİK YAPMAYINIZ;SATIR VEYA SÜTUN SİLMEYİNİZ; LİSTEDE OLMAYAN ETKİNLİKLERİNİZİ DİĞER KISMINA YAZINIZ) | C5: (Lütfen aşağıdaki hücrelerin sağında beliren işarete tıklayarak seçiminizi yapınız) | D5: (Lütfen aşağıdaki hücrelerin sağında beliren işarete tıklayarak seçiminizi yapınız) | E5: (Lütfen aşağıdaki hücrelerin sağında beliren işarete tıklayarak seçiminizi yapınız) | F5: (Lütfen aşağıdaki hücrelerin sağında beliren işarete tıklayarak seçiminizi yapınız) | G5: (Lütfen aşağıdaki hücrelerin sağında beliren işarete tıklayarak seçiminizi yapınız) | H5: (TOPLAMI SADECE SAYI OLARAK YAZINIZ) | I5: (TOPLAMI SADECE SAYI OLARAK YAZINIZ) | J5: (TOPLAMI SADECE SAYI OLARAK YAZINIZ) | K5: (TOPLAMI SADECE SAYI OLARAK YAZINIZ)
A6: 1 | B6: Kalp Günü / Haftası
A7: 2 | B7: Yaşlılar Günü / Haftası
A8: 3 | B8: Osteoporoz Günü
A9: 4 | B9: Diyabet Günü / Haftası
A10: 5 | B10: KOAH Günü
A11: 6 | B11: ASTIM Günü
A12: 7 | B12: Pulmoner Rehabilitasyon Haftası
A13: 8 | B13: Engelliler Günü/Haftası
A14: 9 | B14: Böbrek Günü/ Tuz Tüketiminin Azaltılması
A15: 10 | B15: Hipertansiyon Günü
A16: 11 | B16: Obezite Günü
A17: 12 | B17: Sağlık İçin Hareket Et Günü
... A26: 21 | B26: Diğer (Etkinlik Adı açık olarak yazılacaktır)
A29: 1.GÜN | B29: Sağlıklı Yaşam Aracı Faaliyetleri
A30: 2.GÜN | B30: Sağlıklı Yaşam Aracı Faaliyetleri
A31: 3.GÜN | B31: Sağlıklı Yaşam Aracı Faaliyetleri
A32: 4.GÜN | B32: Sağlıklı Yaşam Aracı Faaliyetleri
A33: 5.GÜN | B33: Sağlıklı Yaşam Aracı Faaliyetleri
B35: Düzenleyen | G35: Onaylayan
B36: Adı Soyadı: | G36: Adı Soyadı:
B37: İmza: | G37: İmza:

Sheet BERGAMA
A1: BULAŞICI OLMAYAN HASTALIKLAR VE PROGRAMLAR FAALİYET BİLDİRİM FORMU
A2: İLÇE:
A3: AY: | D3: YIL:
A4: SIRA NO | B4: ETKİNLİĞİN KONUSU | C4: ETKİNLİĞİN YERİ | D4: HEDEF KİTLE | E4: ETKİNLİĞİN TÜRÜ | F4: YAPILAN DİĞER ETKİNLİKLER | G4: DAĞITILAN MALZEMELER | H4: DAĞITILAN MALZEME SAYISI | I4: ULAŞILAN KİŞİ SAYISI | J4: GÖREV ALAN KİŞİ SAYISI | K4: SEANS SAYISI
B5: (LÜTFEN SIRALAMADA DEĞİŞİKLİK YAPMAYINIZ;SATIR VEYA SÜTUN SİLMEYİNİZ; LİSTEDE OLMAYAN ETKİNLİKLERİNİZİ DİĞER KISMINA YAZINIZ) | C5: (Lütfen aşağıdaki hücrelerin sağında beliren işarete tıklayarak seçiminizi yapınız) | D5: (Lütfen aşağıdaki hücrelerin sağında beliren işarete tıklayarak seçiminizi yapınız) | E5: (Lütfen aşağıdaki hücrelerin sağında beliren işarete tıklayarak seçiminizi yapınız) | F5: (Lütfen aşağıdaki hücrelerin sağında beliren işarete tıklayarak seçiminizi yapınız) | G5: (Lütfen aşağıdaki hücrelerin sağında beliren işarete tıklayarak seçiminizi yapınız) | H5: (TOPLAMI SADECE SAYI OLARAK YAZINIZ) | I5: (TOPLAMI SADECE SAYI OLARAK YAZINIZ) | J5: (TOPLAMI SADECE SAYI OLARAK YAZINIZ) | K5: (TOPLAMI SADECE SAYI OLARAK YAZINIZ)
A6: 1 | B6: Kalp Günü / Haftası
A7: 2 | B7: Yaşlılar Günü / Haftası
A8: 3 | B8: Osteoporoz Günü
A9: 4 | B9: Diyabet Günü / Haftası
A10: 5 | B10: KOAH Günü
A11: 6 | B11: ASTIM Günü
A12: 7 | B12: Pulmoner Rehabilitasyon Haftası
A13: 8 | B13: Engelliler Günü/Haftası
A14: 9 | B14: Böbrek Günü/ Tuz Tüketiminin Azaltılması
A15: 10 | B15: Hipertansiyon Günü
A16: 11 | B16: Obezite Günü
A17: 12 | B17: Sağlık İçin Hareket Et Günü
... A26: 21 | B26: Diğer (Etkinlik Adı açık olarak yazılacaktır)
A29: 1.GÜN | B29: Sağlıklı Yaşam Aracı Faaliyetleri
A30: 2.GÜN | B30: Sağlıklı Yaşam Aracı Faaliyetleri
A31: 3.GÜN | B31: Sağlıklı Yaşam Aracı Faaliyetleri
A32: 4.GÜN | B32: Sağlıklı Yaşam Aracı Faaliyetleri
A33: 5.GÜN | B33: Sağlıklı Yaşam Aracı Faaliyetleri
B35: Düzenleyen | G35: Onaylayan
B36: Adı Soyadı: | G36: Adı Soyadı:
B37: İmza: | G37: İmza:

Sheet BEYDAĞ
A1: BULAŞICI OLMAYAN HASTALIKLAR VE PROGRAMLAR FAALİYET BİLDİRİM FORMU
A2: İLÇE:
A3: AY: | D3: YIL:
A4: SIRA NO | B4: ETKİNLİĞİN KONUSU | C4: ETKİNLİĞİN YERİ | D4: HEDEF KİTLE | E4: ETKİNLİĞİN TÜRÜ | F4: YAPILAN DİĞER ETKİNLİKLER | G4: DAĞITILAN MALZEMELER | H4: DAĞITILAN MALZEME SAYISI | I4: ULAŞILAN KİŞİ SAYISI | J4: GÖREV ALAN KİŞİ SAYISI | K4: SEANS SAYISI
B5: (LÜTFEN SIRALAMADA DEĞİŞİKLİK YAPMAYINIZ;SATIR VEYA SÜTUN SİLMEYİNİZ; LİSTEDE OLMAYAN ETKİNLİKLERİNİZİ DİĞER KISMINA YAZINIZ) | C5: (Lütfen aşağıdaki hücrelerin sağında beliren işarete tıklayarak seçiminizi yapınız) | D5: (Lütfen aşağıdaki hücrelerin sağında beliren işarete tıklayarak seçiminizi yapınız) | E5: (Lütfen aşağıdaki hücrelerin sağında beliren işarete tıklayarak seçiminizi yapınız) | F5: (Lütfen aşağıdaki hücrelerin sağında beliren işarete tıklayarak seçiminizi yapınız) | G5: (Lütfen aşağıdaki hücrelerin sağında beliren işarete tıklayarak seçiminizi yapınız) | H5: (TOPLAMI SADECE SAYI OLARAK YAZINIZ) | I5: (TOPLAMI SADECE SAYI OLARAK YAZINIZ) | J5: (TOPLAMI SADECE SAYI OLARAK YAZINIZ) | K5: (TOPLAMI SADECE SAYI OLARAK YAZINIZ)
A6: 1 | B6: Kalp Günü / Haftası
A7: 2 | B7: Yaşlılar Günü / Haftası
A8: 3 | B8: Osteoporoz Günü
A9: 4 | B9: Diyabet Günü / Haftası
A10: 5 | B10: KOAH Günü
A11: 6 | B11: ASTIM Günü
A12: 7 | B12: Pulmoner Rehabilitasyon Haftası
A13: 8 | B13: Engelliler Günü/Haftası
A14: 9 | B14: Böbrek Günü/ Tuz Tüketiminin Azaltılması
A15: 10 | B15: Hipertansiyon Günü
A16: 11 | B16: Obezite Günü
A17: 12 | B17: Sağlık İçin Hareket Et Günü
... A26: 21 | B26: Diğer (Etkinlik Adı açık olarak yazılacaktır)
A29: 1.GÜN | B29: Sağlıklı Yaşam Aracı Faaliyetleri
A30: 2.GÜN | B30: Sağlıklı Yaşam Aracı Faaliyetleri
A31: 3.GÜN | B31: Sağlıklı Yaşam Aracı Faaliyetleri
A32: 4.GÜN | B32: Sağlıklı Yaşam Aracı Faaliyetleri
A33: 5.GÜN | B33: Sağlıklı Yaşam Aracı Faaliyetleri
B35: Düzenleyen | G35: Onaylayan
B36: Adı Soyadı: | G36: Adı Soyadı:
B37: İmza: | G37: İmza:

Sheet BORNOVA
A1: BULAŞICI OLMAYAN HASTALIKLAR VE PROGRAMLAR FAALİYET BİLDİRİM FORMU
A2: İLÇE:
A3: AY: | D3: YIL:
A4: SIRA NO | B4: ETKİNLİĞİN KONUSU | C4: ETKİNLİĞİN YERİ | D4: HEDEF KİTLE | E4: ETKİNLİĞİN TÜRÜ | F4: YAPILAN DİĞER ETKİNLİKLER | G4: DAĞITILAN MALZEMELER | H4: DAĞITILAN MALZEME SAYISI | I4: ULAŞILAN KİŞİ SAYISI | J4: GÖREV ALAN KİŞİ SAYISI | K4: SEANS SAYISI
B5: (LÜTFEN SIRALAMADA DEĞİŞİKLİK YAPMAYINIZ;SATIR VEYA SÜTUN SİLMEYİNİZ; LİSTEDE OLMAYAN ETKİNLİKLERİNİZİ DİĞER KISMINA YAZINIZ) | C5: (Lütfen aşağıdaki hücrelerin sağında beliren işarete tıklayarak seçiminizi yapınız) | D5: (Lütfen aşağıdaki hücrelerin sağında beliren işarete tıklayarak seçiminizi yapınız) | E5: (Lütfen aşağıdaki hücrelerin sağında beliren işarete tıklayarak seçiminizi yapınız) | F5: (Lütfen aşağıdaki hücrelerin sağında beliren işarete tıklayarak seçiminizi yapınız) | G5: (Lütfen aşağıdaki hücrelerin sağında beliren işarete tıklayarak seçiminizi yapınız) | H5: (TOPLAMI SADECE SAYI OLARAK YAZINIZ) | I5: (TOPLAMI SADECE SAYI OLARAK YAZINIZ) | J5: (TOPLAMI SADECE SAYI OLARAK YAZINIZ) | K5: (TOPLAMI SADECE SAYI OLARAK YAZINIZ)
A6: 1 | B6: Kalp Günü / Haftası
A7: 2 | B7: Yaşlılar Günü / Haftası
A8: 3 | B8: Osteoporoz Günü
A9: 4 | B9: Diyabet Günü / Haftası
A10: 5 | B10: KOAH Günü
A11: 6 | B11: ASTIM Günü
A12: 7 | B12: Pulmoner Rehabilitasyon Haftası
A13: 8 | B13: Engelliler Günü/Haftası
A14: 9 | B14: Böbrek Günü/ Tuz Tüketiminin Azaltılması
A15: 10 | B15: Hipertansiyon Günü
A16: 11 | B16: Obezite Günü
A17: 12 | B17: Sağlık İçin Hareket Et Günü
... A26: 21 | B26: Diğer (Etkinlik Adı açık olarak yazılacaktır)
A29: 1.GÜN | B29: Sağlıklı Yaşam Aracı Faaliyetleri
A30: 2.GÜN | B30: Sağlıklı Yaşam Aracı Faaliyetleri
A31: 3.GÜN | B31: Sağlıklı Yaşam Aracı Faaliyetleri
A32: 4.GÜN | B32: Sağlıklı Yaşam Aracı Faaliyetleri
A33: 5.GÜN | B33: Sağlıklı Yaşam Aracı Faaliyetleri
B35: Düzenleyen | G35: Onaylayan
B36: Adı Soyadı: | G36: Adı Soyadı:
B37: İmza: | G37: İmza:

Sheet BUCA
A1: BULAŞICI OLMAYAN HASTALIKLAR VE PROGRAMLAR FAALİYET BİLDİRİM FORMU
A2: İLÇE:
A3: AY: | D3: YIL:
A4: SIRA NO | B4: ETKİNLİĞİN KONUSU | C4: ETKİNLİĞİN YERİ | D4: HEDEF KİTLE | E4: ETKİNLİĞİN TÜRÜ | F4: YAPILAN DİĞER ETKİNLİKLER | G4: DAĞITILAN MALZEMELER | H4: DAĞITILAN MALZEME SAYISI | I4: ULAŞILAN KİŞİ SAYISI | J4: GÖREV ALAN KİŞİ SAYISI | K4: SEANS SAYISI
B5: (LÜTFEN SIRALAMADA DEĞİŞİKLİK YAPMAYINIZ;SATIR VEYA SÜTUN SİLMEYİNİZ; LİSTEDE OLMAYAN ETKİNLİKLERİNİZİ DİĞER KISMINA YAZINIZ) | C5: (Lütfen aşağıdaki hücrelerin sağında beliren işarete tıklayarak seçiminizi yapınız) | D5: (Lütfen aşağıdaki hücrelerin sağında beliren işarete tıklayarak seçiminizi yapınız) | E5: (Lütfen aşağıdaki hücrelerin sağında beliren işarete tıklayarak seçiminizi yapınız) | F5: (Lütfen aşağıdaki hücrelerin sağında beliren işarete tıklayarak seçiminizi yapınız) | G5: (Lütfen aşağıdaki hücrelerin sağında beliren işarete tıklayarak seçiminizi yapınız) | H5: (TOPLAMI SADECE SAYI OLARAK YAZINIZ) | I5: (TOPLAMI SADECE SAYI OLARAK YAZINIZ) | J5: (TOPLAMI SADECE SAYI OLARAK YAZINIZ) | K5: (TOPLAMI SADECE SAYI OLARAK YAZINIZ)
A6: 1 | B6: Kalp Günü / Haftası
A7: 2 | B7: Yaşlılar Günü / Haftası
A8: 3 | B8: Osteoporoz Günü
A9: 4 | B9: Diyabet Günü / Haftası
A10: 5 | B10: KOAH Günü
A11: 6 | B11: ASTIM Günü
A12: 7 | B12: Pulmoner Rehabilitasyon Haftası
A13: 8 | B13: Engelliler Günü/Haftası
A14: 9 | B14: Böbrek Günü/ Tuz Tüketiminin Azaltılması
A15: 10 | B15: Hipertansiyon Günü
A16: 11 | B16: Obezite Günü
A17: 12 | B17: Sağlık İçin Hareket Et Günü
... A26: 21 | B26: Diğer (Etkinlik Adı açık olarak yazılacaktır)
A29: 1.GÜN | B29: Sağlıklı Yaşam Aracı Faaliyetleri
A30: 2.GÜN | B30: Sağlıklı Yaşam Aracı Faaliyetleri
A31: 3.GÜN | B31: Sağlıklı Yaşam Aracı Faaliyetleri
A32: 4.GÜN | B32: Sağlıklı Yaşam Aracı Faaliyetleri
A33: 5.GÜN | B33: Sağlıklı Yaşam Aracı Faaliyetleri
B35: Düzenleyen | G35: Onaylayan
B36: Adı Soyadı: | G36: Adı Soyadı:
B37: İmza: | G37: İmza:

Sheet ÇEŞME
A1: BULAŞICI OLMAYAN HASTALIKLAR VE PROGRAMLAR FAALİYET BİLDİRİM FORMU
A2: İLÇE:
A3: AY: | D3: YIL:
A4: SIRA NO | B4: ETKİNLİĞİN KONUSU | C4: ETKİNLİĞİN YERİ | D4: HEDEF KİTLE | E4: ETKİNLİĞİN TÜRÜ | F4: YAPILAN DİĞER ETKİNLİKLER | G4: DAĞITILAN MALZEMELER | H4: DAĞITILAN MALZEME SAYISI | I4: ULAŞILAN KİŞİ SAYISI | J4: GÖREV ALAN KİŞİ SAYISI | K4: SEANS SAYISI
B5: (LÜTFEN SIRALAMADA DEĞİŞİKLİK YAPMAYINIZ;SATIR VEYA SÜTUN SİLMEYİNİZ; LİSTEDE OLMAYAN ETKİNLİKLERİNİZİ DİĞER KISMINA YAZINIZ) | C5: (Lütfen aşağıdaki hücrelerin sağında beliren işarete tıklayarak seçiminizi yapınız) | D5: (Lütfen aşağıdaki hücrelerin sağında beliren işarete tıklayarak seçiminizi yapınız) | E5: (Lütfen aşağıdaki hücrelerin sağında beliren işarete tıklayarak seçiminizi yapınız) | F5: (Lütfen aşağıdaki hücrelerin sağında beliren işarete tıklayarak seçiminizi yapınız) | G5: (Lütfen aşağıdaki hücrelerin sağında beliren işarete tıklayarak seçiminizi yapınız) | H5: (TOPLAMI SADECE SAYI OLARAK YAZINIZ) | I5: (TOPLAMI SADECE SAYI OLARAK YAZINIZ) | J5: (TOPLAMI SADECE SAYI OLARAK YAZINIZ) | K5: (TOPLAMI SADECE SAYI OLARAK YAZINIZ)
A6: 1 | B6: Kalp Günü / Haftası
A7: 2 | B7: Yaşlılar Günü / Haftası
A8: 3 | B8: Osteoporoz Günü
A9: 4 | B9: Diyabet Günü / Haftası
A10: 5 | B10: KOAH Günü
A11: 6 | B11: ASTIM Günü
A12: 7 | B12: Pulmoner Rehabilitasyon Haftası
A13: 8 | B13: Engelliler Günü/Haftası
A14: 9 | B14: Böbrek Günü/ Tuz Tüketiminin Azaltılması
A15: 10 | B15: Hipertansiyon Günü
A16: 11 | B16: Obezite Günü
A17: 12 | B17: Sağlık İçin Hareket Et Günü
... A26: 21 | B26: Diğer (Etkinlik Adı açık olarak yazılacaktır)
A29: 1.GÜN | B29: Sağlıklı Yaşam Aracı Faaliyetleri
A30: 2.GÜN | B30: Sağlıklı Yaşam Aracı Faaliyetleri
A31: 3.GÜN | B31: Sağlıklı Yaşam Aracı Faaliyetleri
A32: 4.GÜN | B32: Sağlıklı Yaşam Aracı Faaliyetleri
A33: 5.GÜN | B33: Sağlıklı Yaşam Aracı Faaliyetleri
B35: Düzenleyen | G35: Onaylayan
B36: Adı Soyadı: | G36: Adı Soyadı:
B37: İmza: | G37: İmza:

Sheet ÇİĞLİ
A1: BULAŞICI OLMAYAN HASTALIKLAR VE PROGRAMLAR FAALİYET BİLDİRİM FORMU
A2: İLÇE:
A3: AY: | D3: YIL:
A4: SIRA NO | B4: ETKİNLİĞİN KONUSU | C4: ETKİNLİĞİN YERİ | D4: HEDEF KİTLE | E4: ETKİNLİĞİN TÜRÜ | F4: YAPILAN DİĞER ETKİNLİKLER | G4: DAĞITILAN MALZEMELER | H4: DAĞITILAN MALZEME SAYISI | I4: ULAŞILAN KİŞİ SAYISI | J4: GÖREV ALAN KİŞİ SAYISI | K4: SEANS SAYISI
B5: (LÜTFEN SIRALAMADA DEĞİŞİKLİK YAPMAYINIZ;SATIR VEYA SÜTUN SİLMEYİNİZ; LİSTEDE OLMAYAN ETKİNLİKLERİNİZİ DİĞER KISMINA YAZINIZ) | C5: (Lütfen aşağıdaki hücrelerin sağında beliren işarete tıklayarak seçiminizi yapınız) | D5: (Lütfen aşağıdaki hücrelerin sağında beliren işarete tıklayarak seçiminizi yapınız) | E5: (Lütfen aşağıdaki hücrelerin sağında beliren işarete tıklayarak seçiminizi yapınız) | F5: (Lütfen aşağıdaki hücrelerin sağında beliren işarete tıklayarak seçiminizi yapınız) | G5: (Lütfen aşağıdaki hücrelerin sağında beliren işarete tıklayarak seçiminizi yapınız) | H5: (TOPLAMI SADECE SAYI OLARAK YAZINIZ) | I5: (TOPLAMI SADECE SAYI OLARAK YAZINIZ) | J5: (TOPLAMI SADECE SAYI OLARAK YAZINIZ) | K5: (TOPLAMI SADECE SAYI OLARAK YAZINIZ)
A6: 1 | B6: Kalp Günü / Haftası
A7: 2 | B7: Yaşlılar Günü / Haftası
A8: 3 | B8: Osteoporoz Günü
A9: 4 | B9: Diyabet Günü / Haftası
A10: 5 | B10: KOAH Günü
A11: 6 | B11: ASTIM Günü
A12: 7 | B12: Pulmoner Rehabilitasyon Haftası
A13: 8 | B13: Engelliler Günü/Haftası
A14: 9 | B14: Böbrek Günü/ Tuz Tüketiminin Azaltılması
A15: 10 | B15: Hipertansiyon Günü
A16: 11 | B16: Obezite Günü
A17: 12 | B17: Sağlık İçin Hareket Et Günü
... A26: 21 | B26: Diğer (Etkinlik Adı açık olarak yazılacaktır)
A29: 1.GÜN | B29: Sağlıklı Yaşam Aracı Faaliyetleri
A30: 2.GÜN | B30: Sağlıklı Yaşam Aracı Faaliyetleri
A31: 3.GÜN | B31: Sağlıklı Yaşam Aracı Faaliyetleri
A32: 4.GÜN | B32: Sağlıklı Yaşam Aracı Faaliyetleri
A33: 5.GÜN | B33: Sağlıklı Yaşam Aracı Faaliyetleri
B35: Düzenleyen | G35: Onaylayan
B36: Adı Soyadı: | G36: Adı Soyadı:
B37: İmza: | G37: İmza:

Sheet DİKİLİ
A1: BULAŞICI OLMAYAN HASTALIKLAR VE PROGRAMLAR FAALİYET BİLDİRİM FORMU
A2: İLÇE:
A3: AY: | D3: YIL:
A4: SIRA NO | B4: ETKİNLİĞİN KONUSU | C4: ETKİNLİĞİN YERİ | D4: HEDEF KİTLE | E4: ETKİNLİĞİN TÜRÜ | F4: YAPILAN DİĞER ETKİNLİKLER | G4: DAĞITILAN MALZEMELER | H4: DAĞITILAN MALZEME SAYISI | I4: ULAŞILAN KİŞİ SAYISI | J4: GÖREV ALAN KİŞİ SAYISI | K4: SEANS SAYISI
B5: (LÜTFEN SIRALAMADA DEĞİŞİKLİK YAPMAYINIZ;SATIR VEYA SÜTUN SİLMEYİNİZ; LİSTEDE OLMAYAN ETKİNLİKLERİNİZİ DİĞER KISMINA YAZINIZ) | C5: (Lütfen aşağıdaki hücrelerin sağında beliren işarete tıklayarak seçiminizi yapınız) | D5: (Lütfen aşağıdaki hücrelerin sağında beliren işarete tıklayarak seçiminizi yapınız) | E5: (Lütfen aşağıdaki hücrelerin sağında beliren işarete tıklayarak seçiminizi yapınız) | F5: (Lütfen aşağıdaki hücrelerin sağında beliren işarete tıklayarak seçiminizi yapınız) | G5: (Lütfen aşağıdaki hücrelerin sağında beliren işarete tıklayarak seçiminizi yapınız) | H5: (TOPLAMI SADECE SAYI OLARAK YAZINIZ) | I5: (TOPLAMI SADECE SAYI OLARAK YAZINIZ) | J5: (TOPLAMI SADECE SAYI OLARAK YAZINIZ) | K5: (TOPLAMI SADECE SAYI OLARAK YAZINIZ)
A6: 1 | B6: Kalp Günü / Haftası
A7: 2 | B7: Yaşlılar Günü / Haftası
A8: 3 | B8: Osteoporoz Günü
A9: 4 | B9: Diyabet Günü / Haftası
A10: 5 | B10: KOAH Günü
A11: 6 | B11: ASTIM Günü
A12: 7 | B12: Pulmoner Rehabilitasyon Haftası
A13: 8 | B13: Engelliler Günü/Haftası
A14: 9 | B14: Böbrek Günü/ Tuz Tüketiminin Azaltılması
A15: 10 | B15: Hipertansiyon Günü
A16: 11 | B16: Obezite Günü
A17: 12 | B17: Sağlık İçin Hareket Et Günü
... A26: 21 | B26: Diğer (Etkinlik Adı açık olarak yazılacaktır)
A29: 1.GÜN | B29: Sağlıklı Yaşam Aracı Faaliyetleri
A30: 2.GÜN | B30: Sağlıklı Yaşam Aracı Faaliyetleri
A31: 3.GÜN | B31: Sağlıklı Yaşam Aracı Faaliyetleri
A32: 4.GÜN | B32: Sağlıklı Yaşam Aracı Faaliyetleri
A33: 5.GÜN | B33: Sağlıklı Yaşam Aracı Faaliyetleri
B35: Düzenleyen | G35: Onaylayan
B36: Adı Soyadı: | G36: Adı Soyadı:
B37: İmza: | G37: İmza:

Sheet FOÇA
A1: BULAŞICI OLMAYAN HASTALIKLAR VE PROGRAMLAR FAALİYET BİLDİRİM FORMU
A2: İLÇE:
A3: AY: | D3: YIL:
A4: SIRA NO | B4: ETKİNLİĞİN KONUSU | C4: ETKİNLİĞİN YERİ | D4: HEDEF KİTLE | E4: ETKİNLİĞİN TÜRÜ | F4: YAPILAN DİĞER ETKİNLİKLER | G4: DAĞITILAN MALZEMELER | H4: DAĞITILAN MALZEME SAYISI | I4: ULAŞILAN KİŞİ SAYISI | J4: GÖREV ALAN KİŞİ SAYISI | K4: SEANS SAYISI
B5: (LÜTFEN SIRALAMADA DEĞİŞİKLİK YAPMAYINIZ;SATIR VEYA SÜTUN SİLMEYİNİZ; LİSTEDE OLMAYAN ETKİNLİKLERİNİZİ DİĞER KISMINA YAZINIZ) | C5: (Lütfen aşağıdaki hücrelerin sağında beliren işarete tıklayarak seçiminizi yapınız) | D5: (Lütfen aşağıdaki hücrelerin sağında beliren işarete tıklayarak seçiminizi yapınız) | E5: (Lütfen aşağıdaki hücrelerin sağında beliren işarete tıklayarak seçiminizi yapınız) | F5: (Lütfen aşağıdaki hücrelerin sağında beliren işarete tıklayarak seçiminizi yapınız) | G5: (Lütfen aşağıdaki hücrelerin sağında beliren işarete tıklayarak seçiminizi yapınız) | H5: (TOPLAMI SADECE SAYI OLARAK YAZINIZ) | I5: (TOPLAMI SADECE SAYI OLARAK YAZINIZ) | J5: (TOPLAMI SADECE SAYI OLARAK YAZINIZ) | K5: (TOPLAMI SADECE SAYI OLARAK YAZINIZ)
A6: 1 | B6: Kalp Günü / Haftası
A7: 2 | B7: Yaşlılar Günü / Haftası
A8: 3 | B8: Osteoporoz Günü
A9: 4 | B9: Diyabet Günü / Haftası
A10: 5 | B10: KOAH Günü
A11: 6 | B11: ASTIM Günü
A12: 7 | B12: Pulmoner Rehabilitasyon Haftası
A13: 8 | B13: Engelliler Günü/Haftası
A14: 9 | B14: Böbrek Günü/ Tuz Tüketiminin Azaltılması
A15: 10 | B15: Hipertansiyon Günü
A16: 11 | B16: Obezite Günü
A17: 12 | B17: Sağlık İçin Hareket Et Günü
... A26: 21 | B26: Diğer (Etkinlik Adı açık olarak yazılacaktır)
A29: 1.GÜN | B29: Sağlıklı Yaşam Aracı Faaliyetleri
A30: 2.GÜN | B30: Sağlıklı Yaşam Aracı Faaliyetleri
A31: 3.GÜN | B31: Sağlıklı Yaşam Aracı Faaliyetleri
A32: 4.GÜN | B32: Sağlıklı Yaşam Aracı Faaliyetleri
A33: 5.GÜN | B33: Sağlıklı Yaşam Aracı Faaliyetleri
B35: Düzenleyen | G35: Onaylayan
B36: Adı Soyadı: | G36: Adı Soyadı:
B37: İmza: | G37: İmza:

Sheet GAZİEMİR
A1: BULAŞICI OLMAYAN HASTALIKLAR VE PROGRAMLAR FAALİYET BİLDİRİM FORMU
A2: İLÇE:
A3: AY: | D3: YIL:
A4: SIRA NO | B4: ETKİNLİĞİN KONUSU | C4: ETKİNLİĞİN YERİ | D4: HEDEF KİTLE | E4: ETKİNLİĞİN TÜRÜ | F4: YAPILAN DİĞER ETKİNLİKLER | G4: DAĞITILAN MALZEMELER | H4: DAĞITILAN MALZEME SAYISI | I4: ULAŞILAN KİŞİ SAYISI | J4: GÖREV ALAN KİŞİ SAYISI | K4: SEANS SAYISI
B5: (LÜTFEN SIRALAMADA DEĞİŞİKLİK YAPMAYINIZ;SATIR VEYA SÜTUN SİLMEYİNİZ; LİSTEDE OLMAYAN ETKİNLİKLERİNİZİ DİĞER KISMINA YAZINIZ) | C5: (Lütfen aşağıdaki hücrelerin sağında beliren işarete tıklayarak seçiminizi yapınız) | D5: (Lütfen aşağıdaki hücrelerin sağında beliren işarete tıklayarak seçiminizi yapınız) | E5: (Lütfen aşağıdaki hücrelerin sağında beliren işarete tıklayarak seçiminizi yapınız) | F5: (Lütfen aşağıdaki hücrelerin sağında beliren işarete tıklayarak seçiminizi yapınız) | G5: (Lütfen aşağıdaki hücrelerin sağında beliren işarete tıklayarak seçiminizi yapınız) | H5: (TOPLAMI SADECE SAYI OLARAK YAZINIZ) | I5: (TOPLAMI SADECE SAYI OLARAK YAZINIZ) | J5: (TOPLAMI SADECE SAYI OLARAK YAZINIZ) | K5: (TOPLAMI SADECE SAYI OLARAK YAZINIZ)
A6: 1 | B6: Kalp Günü / Haftası
A7: 2 | B7: Yaşlılar Günü / Haftası
A8: 3 | B8: Osteoporoz Günü
A9: 4 | B9: Diyabet Günü / Haftası
A10: 5 | B10: KOAH Günü
A11: 6 | B11: ASTIM Günü
A12: 7 | B12: Pulmoner Rehabilitasyon Haftası
A13: 8 | B13: Engelliler Günü/Haftası
A14: 9 | B14: Böbrek Günü/ Tuz Tüketiminin Azaltılması
A15: 10 | B15: Hipertansiyon Günü
A16: 11 | B16: Obezite Günü
A17: 12 | B17: Sağlık İçin Hareket Et Günü
... A26: 21 | B26: Diğer (Etkinlik Adı açık olarak yazılacaktır)
A29: 1.GÜN | B29: Sağlıklı Yaşam Aracı Faaliyetleri
A30: 2.GÜN | B30: Sağlıklı Yaşam Aracı Faaliyetleri
A31: 3.GÜN | B31: Sağlıklı Yaşam Aracı Faaliyetleri
A32: 4.GÜN | B32: Sağlıklı Yaşam Aracı Faaliyetleri
A33: 5.GÜN | B33: Sağlıklı Yaşam Aracı Faaliyetleri
B35: Düzenleyen | G35: Onaylayan
B36: Adı Soyadı: | G36: Adı Soyadı:
B37: İmza: | G37: İmza:

Sheet GÜZELBAHÇE
A1: BULAŞICI OLMAYAN HASTALIKLAR VE PROGRAMLAR FAALİYET BİLDİRİM FORMU
A2: İLÇE:
A3: AY: | D3: YIL:
A4: SIRA NO | B4: ETKİNLİĞİN KONUSU | C4: ETKİNLİĞİN YERİ | D4: HEDEF KİTLE | E4: ETKİNLİĞİN TÜRÜ | F4: YAPILAN DİĞER ETKİNLİKLER | G4: DAĞITILAN MALZEMELER | H4: DAĞITILAN MALZEME SAYISI | I4: ULAŞILAN KİŞİ SAYISI | J4: GÖREV ALAN KİŞİ SAYISI | K4: SEANS SAYISI
B5: (LÜTFEN SIRALAMADA DEĞİŞİKLİK YAPMAYINIZ;SATIR VEYA SÜTUN SİLMEYİNİZ; LİSTEDE OLMAYAN ETKİNLİKLERİNİZİ DİĞER KISMINA YAZINIZ) | C5: (Lütfen aşağıdaki hücrelerin sağında beliren işarete tıklayarak seçiminizi yapınız) | D5: (Lütfen aşağıdaki hücrelerin sağında beliren işarete tıklayarak seçiminizi yapınız) | E5: (Lütfen aşağıdaki hücrelerin sağında beliren işarete tıklayarak seçiminizi yapınız) | F5: (Lütfen aşağıdaki hücrelerin sağında beliren işarete tıklayarak seçiminizi yapınız) | G5: (Lütfen aşağıdaki hücrelerin sağında beliren işarete tıklayarak seçiminizi yapınız) | H5: (TOPLAMI SADECE SAYI OLARAK YAZINIZ) | I5: (TOPLAMI SADECE SAYI OLARAK YAZINIZ) | J5: (TOPLAMI SADECE SAYI OLARAK YAZINIZ) | K5: (TOPLAMI SADECE SAYI OLARAK YAZINIZ)
A6: 1 | B6: Kalp Günü / Haftası
A7: 2 | B7: Yaşlılar Günü / Haftası
A8: 3 | B8: Osteoporoz Günü
A9: 4 | B9: Diyabet Günü / Haftası
A10: 5 | B10: KOAH Günü
A11: 6 | B11: ASTIM Günü
A12: 7 | B12: Pulmoner Rehabilitasyon Haftası
A13: 8 | B13: Engelliler Günü/Haftası
A14: 9 | B14: Böbrek Günü/ Tuz Tüketiminin Azaltılması
A15: 10 | B15: Hipertansiyon Günü
A16: 11 | B16: Obezite Günü
A17: 12 | B17: Sağlık İçin Hareket Et Günü
... A26: 21 | B26: Diğer (Etkinlik Adı açık olarak yazılacaktır)
A29: 1.GÜN | B29: Sağlıklı Yaşam Aracı Faaliyetleri
A30: 2.GÜN | B30: Sağlıklı Yaşam Aracı Faaliyetleri
A31: 3.GÜN | B31: Sağlıklı Yaşam Aracı Faaliyetleri
A32: 4.GÜN | B32: Sağlıklı Yaşam Aracı Faaliyetleri
A33: 5.GÜN | B33: Sağlıklı Yaşam Aracı Faaliyetleri
B35: Düzenleyen | G35: Onaylayan
B36: Adı Soyadı: | G36: Adı Soyadı:
B37: İmza: | G37: İmza:

Sheet KARABAĞLAR
A1: BULAŞICI OLMAYAN HASTALIKLAR VE PROGRAMLAR FAALİYET BİLDİRİM FORMU
A2: İLÇE:
A3: AY: | D3: YIL:
A4: SIRA NO | B4: ETKİNLİĞİN KONUSU | C4: ETKİNLİĞİN YERİ | D4: HEDEF KİTLE | E4: ETKİNLİĞİN TÜRÜ | F4: YAPILAN DİĞER ETKİNLİKLER | G4: DAĞITILAN MALZEMELER | H4: DAĞITILAN MALZEME SAYISI | I4: ULAŞILAN KİŞİ SAYISI | J4: GÖREV ALAN KİŞİ SAYISI | K4: SEANS SAYISI
B5: (LÜTFEN SIRALAMADA DEĞİŞİKLİK YAPMAYINIZ;SATIR VEYA SÜTUN SİLMEYİNİZ; LİSTEDE OLMAYAN ETKİNLİKLERİNİZİ DİĞER KISMINA YAZINIZ) | C5: (Lütfen aşağıdaki hücrelerin sağında beliren işarete tıklayarak seçiminizi yapınız) | D5: (Lütfen aşağıdaki hücrelerin sağında beliren işarete tıklayarak seçiminizi yapınız) | E5: (Lütfen aşağıdaki hücrelerin sağında beliren işarete tıklayarak seçiminizi yapınız) | F5: (Lütfen aşağıdaki hücrelerin sağında beliren işarete tıklayarak seçiminizi yapınız) | G5: (Lütfen aşağıdaki hücrelerin sağında beliren işarete tıklayarak seçiminizi yapınız) | H5: (TOPLAMI SADECE SAYI OLARAK YAZINIZ) | I5: (TOPLAMI SADECE SAYI OLARAK YAZINIZ) | J5: (TOPLAMI SADECE SAYI OLARAK YAZINIZ) | K5: (TOPLAMI SADECE SAYI OLARAK YAZINIZ)
A6: 1 | B6: Kalp Günü / Haftası
A7: 2 | B7: Yaşlılar Günü / Haftası
A8: 3 | B8: Osteoporoz Günü
A9: 4 | B9: Diyabet Günü / Haftası
A10: 5 | B10: KOAH Günü
A11: 6 | B11: ASTIM Günü
A12: 7 | B12: Pulmoner Rehabilitasyon Haftası
A13: 8 | B13: Engelliler Günü/Haftası
A14: 9 | B14: Böbrek Günü/ Tuz Tüketiminin Azaltılması
A15: 10 | B15: Hipertansiyon Günü
A16: 11 | B16: Obezite Günü
A17: 12 | B17: Sağlık İçin Hareket Et Günü
... A26: 21 | B26: Diğer (Etkinlik Adı açık olarak yazılacaktır)
A29: 1.GÜN | B29: Sağlıklı Yaşam Aracı Faaliyetleri
A30: 2.GÜN | B30: Sağlıklı Yaşam Aracı Faaliyetleri
A31: 3.GÜN | B31: Sağlıklı Yaşam Aracı Faaliyetleri
A32: 4.GÜN | B32: Sağlıklı Yaşam Aracı Faaliyetleri
A33: 5.GÜN | B33: Sağlıklı Yaşam Aracı Faaliyetleri
B35: Düzenleyen | G35: Onaylayan
B36: Adı Soyadı: | G36: Adı Soyadı:
B37: İmza: | G37: İmza:

Sheet KARABURUN
A1: BULAŞICI OLMAYAN HASTALIKLAR VE PROGRAMLAR FAALİYET BİLDİRİM FORMU
A2: İLÇE:
A3: AY: | D3: YIL:
